BEGIN:VCALENDAR
PRODID:NingEventWidget-v1
VERSION:2.0
METHOD:PUBLISH
BEGIN:VTIMEZONE
TZID:America/Los_Angeles
X-LIC-LOCATION:America/Los_Angeles
BEGIN:DAYLIGHT
TZOFFSETFROM:-0800
TZOFFSETTO:-0700
TZNAME:PDT
DTSTART:19700308T020000
RRULE:FREQ=YEARLY;BYMONTH=3;BYDAY=2SU
END:DAYLIGHT
BEGIN:STANDARD
TZOFFSETFROM:-0700
TZOFFSETTO:-0800
TZNAME:PST
DTSTART:19701101T020000
RRULE:FREQ=YEARLY;BYMONTH=11;BYDAY=1SU
END:STANDARD
END:VTIMEZONE
BEGIN:VEVENT
UID:1688216:Event:864777
DTSTAMP:20260425T051826Z
SUMMARY:Western Canada Regional Barista Championship
DESCRIPTION:Hey Western Canada,\nShow us what you've got!\n\nBaristas 
 interested in registering please contact vidar@rogers.com or call 416.
 784.5210.\n\nTop 3 baristas win automatic spots for the Canadian Baris
 ta Championship held in Toronto, ON in September at The Canadian Coffe
 e & Tea Show. 4th and 5th place get put into a wild card draw.\n\nCome
  one, come all to check the action out.\n\nCompetitions will be broadc
 asted live on webcast. Details coming soon.\n\nFor more information vi
 sit https://www.baristaexchange.com/events/western-canada-regional
DTSTART;TZID=America/Los_Angeles:20100721T000000
DTEND;TZID=America/Los_Angeles:20100722T235900
CATEGORIES:barista, competition
LOCATION:The Roundhouse Centre
WEBSITE:http://www.canadianbaristaacademy.com
URL:http://www.canadianbaristaacademy.com
CONTACT:1.416.784.5210
ORGANIZER;CN="Canadian Barista Championship":https://www.baristaexchan
 ge.com/profile/CanadianBaristaChampionship
ATTACH;FMTTYPE="image/jpeg":http://storage.ning.com/topology/rest/1.0/
 file/get/91918086?profile=original
ATTENDEE;ROLE=REQ-PARTICIPANT;PARTSTAT=ACCEPTED;RSVP=TRUE;CN=Stickman:
 https://www.baristaexchange.com/profile/DavidEvans
ATTENDEE;ROLE=REQ-PARTICIPANT;PARTSTAT=ACCEPTED;RSVP=TRUE;CN="Ben Cram
 ":https://www.baristaexchange.com/profile/BenCram
ATTENDEE;ROLE=REQ-PARTICIPANT;PARTSTAT=ACCEPTED;RSVP=TRUE;CN="Canadian
  Barista Championship":https://www.baristaexchange.com/profile/Canadia
 nBaristaChampionship
END:VEVENT
END:VCALENDAR
