BEGIN:VCALENDAR
PRODID:NingEventWidget-v1
VERSION:2.0
METHOD:PUBLISH
BEGIN:VTIMEZONE
TZID:America/Los_Angeles
X-LIC-LOCATION:America/Los_Angeles
BEGIN:DAYLIGHT
TZOFFSETFROM:-0800
TZOFFSETTO:-0700
TZNAME:PDT
DTSTART:19700308T020000
RRULE:FREQ=YEARLY;BYMONTH=3;BYDAY=2SU
END:DAYLIGHT
BEGIN:STANDARD
TZOFFSETFROM:-0700
TZOFFSETTO:-0800
TZNAME:PST
DTSTART:19701101T020000
RRULE:FREQ=YEARLY;BYMONTH=11;BYDAY=1SU
END:STANDARD
END:VTIMEZONE
BEGIN:VEVENT
UID:1688216:Event:546844
DTSTAMP:20260422T013615Z
SUMMARY:Weekly Cuppings @ The Hub
DESCRIPTION:Weekly coffee cuppings @ The Hub, every Friday at 10 a.m.\
 n\nAs of July: Loads of new coffees coming to the table over the comin
 g weeks! Fresh harvests from El Salvador, Ethiopia, Guatemala, Papua N
 ew Guinea, Indonesia, and Kenya.\n\nNo need to RSVP, but if you feel s
 o inclined, please let me know if you'll be coming. Otherwise, just sh
 ow up! See you at the cupping!\n\nFor more information visit https://w
 ww.baristaexchange.com/events/weekly-cuppings-the-hub
DTSTART;TZID=America/Los_Angeles:20090807T100000
DTEND;TZID=America/Los_Angeles:20100702T110000
CATEGORIES:educational
LOCATION:The Hub Coffee Co.
WEBSITE:http://thehubcoffeeco.blogspot.com
URL:http://thehubcoffeeco.blogspot.com
CONTACT:775-323-3482
ORGANIZER:The Hub Staff
ATTACH;FMTTYPE="image/jpeg":http://storage.ning.com/topology/rest/1.0/
 file/get/91909371?profile=original
ATTENDEE;ROLE=REQ-PARTICIPANT;PARTSTAT=ACCEPTED;RSVP=TRUE;CN="Mark Tru
 jillo":https://www.baristaexchange.com/profile/MarkTrujillo
ATTENDEE;ROLE=REQ-PARTICIPANT;PARTSTAT=ACCEPTED;RSVP=TRUE;CN="Joey Tru
 jillo":https://www.baristaexchange.com/profile/joeytri
ATTENDEE;ROLE=REQ-PARTICIPANT;PARTSTAT=TENTATIVE;RSVP=TRUE;CN="Matthew
  Sewell":https://www.baristaexchange.com/profile/MatthewSewell
ATTENDEE;ROLE=REQ-PARTICIPANT;PARTSTAT=TENTATIVE;RSVP=TRUE;CN="Java Ge
 m Coffee Drive Thru":https://www.baristaexchange.com/profile/CyberInfu
 sionInternetCafe
END:VEVENT
END:VCALENDAR
