BEGIN:VCALENDAR
PRODID:NingEventWidget-v1
VERSION:2.0
METHOD:PUBLISH
BEGIN:VTIMEZONE
TZID:America/Los_Angeles
X-LIC-LOCATION:America/Los_Angeles
BEGIN:DAYLIGHT
TZOFFSETFROM:-0800
TZOFFSETTO:-0700
TZNAME:PDT
DTSTART:19700308T020000
RRULE:FREQ=YEARLY;BYMONTH=3;BYDAY=2SU
END:DAYLIGHT
BEGIN:STANDARD
TZOFFSETFROM:-0700
TZOFFSETTO:-0800
TZNAME:PST
DTSTART:19701101T020000
RRULE:FREQ=YEARLY;BYMONTH=11;BYDAY=1SU
END:STANDARD
END:VTIMEZONE
BEGIN:VEVENT
UID:1688216:Event:855467
DTSTAMP:20260424T152247Z
SUMMARY:WBC London
DESCRIPTION:world barista championship\n\nFor more information visit h
 ttps://www.baristaexchange.com/events/wbc-london
DTSTART;TZID=America/Los_Angeles:20100623T000000
DTEND;TZID=America/Los_Angeles:20100625T235900
CATEGORIES:championships
LOCATION:London, U.K.
WEBSITE:http://www.worldbaristachampionship.com
URL:http://www.worldbaristachampionship.com
CONTACT:
ORGANIZER:scae/scaa
ATTACH;FMTTYPE="image/jpeg":
ATTENDEE;ROLE=REQ-PARTICIPANT;PARTSTAT=ACCEPTED;RSVP=TRUE;CN="Dani Cap
 uano":https://www.baristaexchange.com/profile/DaniCapuano
ATTENDEE;ROLE=REQ-PARTICIPANT;PARTSTAT=ACCEPTED;RSVP=TRUE;CN="nik oros
 i":https://www.baristaexchange.com/profile/nikorosi
END:VEVENT
END:VCALENDAR
