BEGIN:VCALENDAR
PRODID:NingEventWidget-v1
VERSION:2.0
METHOD:PUBLISH
BEGIN:VTIMEZONE
TZID:America/Los_Angeles
X-LIC-LOCATION:America/Los_Angeles
BEGIN:DAYLIGHT
TZOFFSETFROM:-0800
TZOFFSETTO:-0700
TZNAME:PDT
DTSTART:19700308T020000
RRULE:FREQ=YEARLY;BYMONTH=3;BYDAY=2SU
END:DAYLIGHT
BEGIN:STANDARD
TZOFFSETFROM:-0700
TZOFFSETTO:-0800
TZNAME:PST
DTSTART:19701101T020000
RRULE:FREQ=YEARLY;BYMONTH=11;BYDAY=1SU
END:STANDARD
END:VTIMEZONE
BEGIN:VEVENT
UID:1688216:Event:605348
DTSTAMP:20260422T212923Z
SUMMARY:Watch Seattle's Qualifying Round live online with image upload
 s
DESCRIPTION:For the qualifying round for Seattle vs LA we'll be testin
 g all the technical \"live-streaming\" aspects of the competition onli
 ne. So if you want, you can watch all the shenanigans in Seattle on th
 ese two sites:\n\nlivestream.com - Video Feed\nhttp://www.livestream.c
 om/victrolacoffee\n\nflickr - Live Latte Art Pics\nhttp://www.flickr.c
 om/victrolacoffee\n\nEvent starts promptly at 7pm.\n\nNote: livestream
 .com has to be rebuffered ever so often so we might have to cut the li
 ve feed and switch to a pre-recorded video for a bit so the feed has t
 ime to catchup.\nAlso because this will be blind judged on flickr ther
 e will be no names with photos just numbers. Because the judges are lo
 oking at the same photos everyone else is. So we'll try to post who is
  which number - maybe just here on bx so you can decode the photos if 
 you want. Again we're trying to troubleshoot all this stuff :)\n\nPlea
 se watch & I'd love to hear any suggestions or ideas you might have!\n
 \nFor more information visit https://www.baristaexchange.com/events/wa
 tch-seattles-qualifying
DTSTART;TZID=America/Los_Angeles:20090828T180000
DTEND;TZID=America/Los_Angeles:20090828T190000
CATEGORIES:latte, art, smackdown
LOCATION:Victrola Coffee Roasters
WEBSITE:http://www.victrolacoffee.com
URL:http://www.victrolacoffee.com
CONTACT:
ORGANIZER;CN="Mark Pfaff":https://www.baristaexchange.com/profile/Mark
 Pfaff
ATTACH;FMTTYPE="image/jpeg":
ATTENDEE;ROLE=REQ-PARTICIPANT;PARTSTAT=ACCEPTED;RSVP=TRUE;CN="Mark Pfa
 ff":https://www.baristaexchange.com/profile/MarkPfaff
END:VEVENT
END:VCALENDAR
