BEGIN:VCALENDAR
PRODID:NingEventWidget-v1
VERSION:2.0
METHOD:PUBLISH
BEGIN:VTIMEZONE
TZID:America/Los_Angeles
X-LIC-LOCATION:America/Los_Angeles
BEGIN:DAYLIGHT
TZOFFSETFROM:-0800
TZOFFSETTO:-0700
TZNAME:PDT
DTSTART:19700308T020000
RRULE:FREQ=YEARLY;BYMONTH=3;BYDAY=2SU
END:DAYLIGHT
BEGIN:STANDARD
TZOFFSETFROM:-0700
TZOFFSETTO:-0800
TZNAME:PST
DTSTART:19701101T020000
RRULE:FREQ=YEARLY;BYMONTH=11;BYDAY=1SU
END:STANDARD
END:VTIMEZONE
BEGIN:VEVENT
UID:1688216:Event:443109
DTSTAMP:20260421T115733Z
SUMMARY:VinIstra
DESCRIPTION:biggest wine fair in Croatia and world Malvazia wine champ
 ionship, coffee corners etc. Gastro fair\n\nFor more information visit
  https://www.baristaexchange.com/events/vinistra-1
DTSTART;TZID=America/Los_Angeles:20090429T000000
DTEND;TZID=America/Los_Angeles:20090501T235900
CATEGORIES:wine, tasting, championship
LOCATION:Dvorana Porec
WEBSITE:
URL:
CONTACT:
ORGANIZER:VinIstra
ATTACH;FMTTYPE="image/jpeg":
ATTENDEE;ROLE=REQ-PARTICIPANT;PARTSTAT=ACCEPTED;RSVP=TRUE;CN="nik oros
 i":https://www.baristaexchange.com/profile/nikorosi
END:VEVENT
END:VCALENDAR
