BEGIN:VCALENDAR
PRODID:NingEventWidget-v1
VERSION:2.0
METHOD:PUBLISH
BEGIN:VTIMEZONE
TZID:America/Los_Angeles
X-LIC-LOCATION:America/Los_Angeles
BEGIN:DAYLIGHT
TZOFFSETFROM:-0800
TZOFFSETTO:-0700
TZNAME:PDT
DTSTART:19700308T020000
RRULE:FREQ=YEARLY;BYMONTH=3;BYDAY=2SU
END:DAYLIGHT
BEGIN:STANDARD
TZOFFSETFROM:-0700
TZOFFSETTO:-0800
TZNAME:PST
DTSTART:19701101T020000
RRULE:FREQ=YEARLY;BYMONTH=11;BYDAY=1SU
END:STANDARD
END:VTIMEZONE
BEGIN:VEVENT
UID:1688216:Event:950261
DTSTAMP:20260422T150811Z
SUMMARY:Victrola BREW HA HA!!  (Important Updates & Prize Info!)
DESCRIPTION:Grab that favorite latte art pitcher, brush up on your pou
 r-over skills and dust off a fabulous Halloween costume cuz you're goi
 ng to The Victrola BREW HA HA!! Get ready for a ruckus night of dancin
 g, costumes, and heated coffee competition!! We've got three great eve
 nts lined up and all with killer prizes!\n\nHere's the lowdown:\n\n1) 
 The BREW HA HA:\nCompete in our first ever, single-serve brew-off! Com
 petitors will go head to head with a variety of brewing methods to see
  who can produce the best overall flavor! We'll all be using the same 
 coffee provided by Victrola with brand-spankin new brewing equipment p
 rovided by Espresso Parts Northwest and La Marzocco USA! Sign up is fr
 ee and starts at 7pm sharp at the Victrola Roastery!\n\nUpdate!\nPrize
  packages from Espresso Parts Northwest!\n1st Place wins Karma Brewer 
 Station, 2 Hario V60 Drippers, filters, and a scale!\n2nd Place wins H
 ario Dripper & Filters, and hand grinder!\n3rd Place wins a Chemex bre
 wer, filters, scale and hand grinder!\nUpdate!\n\n2) Latte Art Competi
 tion:\nNo coffee party would be complete without an impromptu latte ar
 t smackdown! $5 Dollar buy-in, winner takes all + some extra goodies!\
 n\n3) Costume Party\nGet your glamour shot taken by our professional p
 hotographer (aka barista with polaroid) then stick around for the chan
 ce to win a brand new Mypressi Twist!! and Frother!\n\nMuch thanks to 
 all our great sponsors: Espresso Parts Northwest, La Marzocco USA, Myp
 ressi, Altmanhaus Creative, Barista Magazine, Sunshine Dairy, Urnex, a
 nd “Djshvr” aKa “Ones” from Visions Espresso Service!\n\nVictr
 ola Coffee Roasters is located at 310 East Pike Street, Seattle WA 981
 22, just a few blocks up from the Convention Center and Coffee Fest Tr
 adeshow on East Pike.\n\nSo what do you need to do to prepare?\n\nYOU 
 DON'T NEED TO BRING A THING! All brewing equipment will be provided by
  Espresso Parts NW and La Marzocco USA! Everyone will be brewing the s
 ame coffee provided by Victrola. Just show up with your mad brewing sk
 ills! Of course, if you have your favorite -insert brewing device here
 - you can bring it to brew with!! And don’t worry you’ll have time
  to do a test run of your brew on our equipment before going into the 
 competition!\n\nHere's how the brewing competition will work:\n\n1st R
 ound: Elimination by Hario V60\n\nThis will be a head to head eliminat
 ion round using Hario v60s only to brew. Each competitor will do 2 Har
 io pour overs of the same coffee using their own brew ratio & pouring 
 technique.\nThey’ll serve to three blind judges who will pick the wi
 nner based on four categories: Best Representation of the Coffee/Overa
 ll Taste, Body, Acidity, and Sweetness.\n\nWinner moves on to finals.\
 n\nFinals Round: Barista's Choice\n\nEach competitor will choose the b
 rew method they feel will best showcase the flavor of the coffee. They
 'll be able to choose from Hario V60, French Press, Vacuum Pot, Chemex
 , Aeropress, and Clever Dripper. We will have butane burners for the V
 ac Pots, scales, thermometers, and a variety of filters. Also we’ll 
 have the new Kone metal filter developed by Keith Gehrke of Coava Coff
 ee Roasters for pour-overs and the Coffee Catcher for French Press.\n\
 nJudges will tally a score based on the tasting categories listed abov
 e and top score wins the competition!\n\nStill have questions? Come to
  our Brew Competition run thru & calibration this Monday 25th at 6pm a
 t our Roastery on 310 East Pike. You'll get a first look at the setup 
 and how the competition will flow as well as be able to mess around wi
 th some of the brewing methods.\n\nFor more information visit https://
 www.baristaexchange.com/events/victrola-brew-ha-ha-important
DTSTART;TZID=America/Los_Angeles:20101030T190000
DTEND;TZID=America/Los_Angeles:20101030T230000
CATEGORIES:coffee, fest, after, party
LOCATION:Victrola Coffee Roasters
WEBSITE:http://www.victrolacoffee.com
URL:http://www.victrolacoffee.com
CONTACT:
ORGANIZER;CN="Mark Pfaff":https://www.baristaexchange.com/profile/Mark
 Pfaff
ATTACH;FMTTYPE="image/jpeg":http://storage.ning.com/topology/rest/1.0/
 file/get/91919995?profile=original
ATTENDEE;ROLE=REQ-PARTICIPANT;PARTSTAT=ACCEPTED;RSVP=TRUE;CN="Mike Can
 non":https://www.baristaexchange.com/profile/MikeCannon
ATTENDEE;ROLE=REQ-PARTICIPANT;PARTSTAT=ACCEPTED;RSVP=TRUE;CN="Jeffrey 
 J Kingman":https://www.baristaexchange.com/profile/JeffreyJKingman
ATTENDEE;ROLE=REQ-PARTICIPANT;PARTSTAT=ACCEPTED;RSVP=TRUE;CN="Mark Pfa
 ff":https://www.baristaexchange.com/profile/MarkPfaff
END:VEVENT
END:VCALENDAR
