BEGIN:VCALENDAR
PRODID:NingEventWidget-v1
VERSION:2.0
METHOD:PUBLISH
BEGIN:VTIMEZONE
TZID:America/Los_Angeles
X-LIC-LOCATION:America/Los_Angeles
BEGIN:DAYLIGHT
TZOFFSETFROM:-0800
TZOFFSETTO:-0700
TZNAME:PDT
DTSTART:19700308T020000
RRULE:FREQ=YEARLY;BYMONTH=3;BYDAY=2SU
END:DAYLIGHT
BEGIN:STANDARD
TZOFFSETFROM:-0700
TZOFFSETTO:-0800
TZNAME:PST
DTSTART:19701101T020000
RRULE:FREQ=YEARLY;BYMONTH=11;BYDAY=1SU
END:STANDARD
END:VTIMEZONE
BEGIN:VEVENT
UID:1688216:Event:432695
DTSTAMP:20260421T165929Z
SUMMARY:Vanfunky Barista Throwdown
DESCRIPTION:Come to downtown Vancouver for some barista skills and lat
 te slinging. Anyone is Welcome, to judge, to compete, to drink some be
 er, and to listen to local music.\n\nFor more information visit https:
 //www.baristaexchange.com/events/vanfunky-barista-throwdown
DTSTART;TZID=America/Los_Angeles:20090417T170000
DTEND;TZID=America/Los_Angeles:20090417T210000
CATEGORIES:barista, throwdown
LOCATION:Mon Ami
WEBSITE:
URL:
CONTACT:360 750 5693
ORGANIZER;CN="Claire Marie":https://www.baristaexchange.com/profile/Cl
 aireMarie
ATTACH;FMTTYPE="image/jpeg":
ATTENDEE;ROLE=REQ-PARTICIPANT;PARTSTAT=ACCEPTED;RSVP=TRUE;CN=Ray:https
 ://www.baristaexchange.com/profile/Ray
ATTENDEE;ROLE=REQ-PARTICIPANT;PARTSTAT=ACCEPTED;RSVP=TRUE;CN="Claire M
 arie":https://www.baristaexchange.com/profile/ClaireMarie
END:VEVENT
END:VCALENDAR
