BEGIN:VCALENDAR
PRODID:NingEventWidget-v1
VERSION:2.0
METHOD:PUBLISH
BEGIN:VTIMEZONE
TZID:America/Los_Angeles
X-LIC-LOCATION:America/Los_Angeles
BEGIN:DAYLIGHT
TZOFFSETFROM:-0800
TZOFFSETTO:-0700
TZNAME:PDT
DTSTART:19700308T020000
RRULE:FREQ=YEARLY;BYMONTH=3;BYDAY=2SU
END:DAYLIGHT
BEGIN:STANDARD
TZOFFSETFROM:-0700
TZOFFSETTO:-0800
TZNAME:PST
DTSTART:19701101T020000
RRULE:FREQ=YEARLY;BYMONTH=11;BYDAY=1SU
END:STANDARD
END:VTIMEZONE
BEGIN:VEVENT
UID:1688216:Event:337464
DTSTAMP:20260422T094051Z
SUMMARY:USBC - Barista Prom Party
DESCRIPTION:USBC Barista Prom - Sponsored by the Albina Press and Bari
 staexchange.com\n\n\n\nFor more information visit https://www.baristae
 xchange.com/events/usbc-barista-prom-party
DTSTART;TZID=America/Los_Angeles:20090307T200000
DTEND;TZID=America/Los_Angeles:20090308T010000
CATEGORIES:barista, party
LOCATION:Bossanova
WEBSITE:http://maps.google.com/maps?f=q&source=s_q&hl=en&geocode=&q=72
 2+E.+Burnside+Portland,+OR&sll=37.0625,-95.677068&sspn=59.119059,44.82
 4219&ie=UTF8&z=16&iwloc=addr
URL:http://maps.google.com/maps?f=q&source=s_q&hl=en&geocode=&q=722+E.
 +Burnside+Portland,+OR&sll=37.0625,-95.677068&sspn=59.119059,44.824219
 &ie=UTF8&z=16&iwloc=addr
CONTACT:
ORGANIZER:The Albina Press & Barista Exchange
ATTACH;FMTTYPE="image/jpeg":http://storage.ning.com/topology/rest/1.0/
 file/get/91905460?profile=original
ATTENDEE;ROLE=REQ-PARTICIPANT;PARTSTAT=ACCEPTED;RSVP=TRUE;CN="Chase Re
 eves":https://www.baristaexchange.com/profile/ChaseReeves
ATTENDEE;ROLE=REQ-PARTICIPANT;PARTSTAT=ACCEPTED;RSVP=TRUE;CN="Leslie R
 uckman":https://www.baristaexchange.com/profile/LeslieRuckman
ATTENDEE;ROLE=REQ-PARTICIPANT;PARTSTAT=ACCEPTED;RSVP=TRUE;CN=Ragaway:h
 ttps://www.baristaexchange.com/profile/Ragaway
ATTENDEE;ROLE=REQ-PARTICIPANT;PARTSTAT=ACCEPTED;RSVP=TRUE;CN="Parker H
 ill":https://www.baristaexchange.com/profile/ParkerHill
ATTENDEE;ROLE=REQ-PARTICIPANT;PARTSTAT=ACCEPTED;RSVP=TRUE;CN="Joe Marr
 occo":https://www.baristaexchange.com/profile/JoeMarrocco
ATTENDEE;ROLE=REQ-PARTICIPANT;PARTSTAT=ACCEPTED;RSVP=TRUE;CN="Carla Ru
 ckman":https://www.baristaexchange.com/profile/CarlaRuckman
ATTENDEE;ROLE=REQ-PARTICIPANT;PARTSTAT=ACCEPTED;RSVP=TRUE;CN="Eric Sch
 repel":https://www.baristaexchange.com/profile/EricSchrepel35
ATTENDEE;ROLE=REQ-PARTICIPANT;PARTSTAT=ACCEPTED;RSVP=TRUE;CN="Ginger G
 erhart":https://www.baristaexchange.com/profile/GingerGerhart
ATTENDEE;ROLE=REQ-PARTICIPANT;PARTSTAT=ACCEPTED;RSVP=TRUE;CN=Tim:https
 ://www.baristaexchange.com/profile/microfoam
ATTENDEE;ROLE=REQ-PARTICIPANT;PARTSTAT=ACCEPTED;RSVP=TRUE;CN="Heath He
 nley":https://www.baristaexchange.com/profile/HeathHenley
ATTENDEE;ROLE=REQ-PARTICIPANT;PARTSTAT=ACCEPTED;RSVP=TRUE;CN="Daniel G
 unter":https://www.baristaexchange.com/profile/DanielGunter
ATTENDEE;ROLE=REQ-PARTICIPANT;PARTSTAT=ACCEPTED;RSVP=TRUE;CN="Craig Ke
 rrick":https://www.baristaexchange.com/profile/CraigKerrick
ATTENDEE;ROLE=REQ-PARTICIPANT;PARTSTAT=ACCEPTED;RSVP=TRUE;CN="Jonathan
  Christerson":https://www.baristaexchange.com/profile/JonathanChrister
 son
ATTENDEE;ROLE=REQ-PARTICIPANT;PARTSTAT=ACCEPTED;RSVP=TRUE;CN="Scott Br
 uggman":https://www.baristaexchange.com/profile/ScottBruggman
ATTENDEE;ROLE=REQ-PARTICIPANT;PARTSTAT=ACCEPTED;RSVP=TRUE;CN="Nick Cho
 ":https://www.baristaexchange.com/profile/NickCho
ATTENDEE;ROLE=REQ-PARTICIPANT;PARTSTAT=ACCEPTED;RSVP=TRUE;CN="Dave Del
 champs":https://www.baristaexchange.com/profile/DaveDelchamps
ATTENDEE;ROLE=REQ-PARTICIPANT;PARTSTAT=ACCEPTED;RSVP=TRUE;CN="Sam Purv
 is":https://www.baristaexchange.com/profile/SamPurvis
ATTENDEE;ROLE=REQ-PARTICIPANT;PARTSTAT=ACCEPTED;RSVP=TRUE;CN="Anthony 
 Rue":https://www.baristaexchange.com/profile/AnthonyRue
ATTENDEE;ROLE=REQ-PARTICIPANT;PARTSTAT=ACCEPTED;RSVP=TRUE;CN="Anna Gut
 ierrez":https://www.baristaexchange.com/profile/AnnaGutierrez
ATTENDEE;ROLE=REQ-PARTICIPANT;PARTSTAT=ACCEPTED;RSVP=TRUE;CN="Tyler St
 evens":https://www.baristaexchange.com/profile/TylerStevens
ATTENDEE;ROLE=REQ-PARTICIPANT;PARTSTAT=ACCEPTED;RSVP=TRUE;CN=JW:https:
 //www.baristaexchange.com/profile/JW
ATTENDEE;ROLE=REQ-PARTICIPANT;PARTSTAT=ACCEPTED;RSVP=TRUE;CN=Nolan:htt
 ps://www.baristaexchange.com/profile/Nolan
ATTENDEE;ROLE=REQ-PARTICIPANT;PARTSTAT=ACCEPTED;RSVP=TRUE;CN="william 
 kevin emmons":https://www.baristaexchange.com/profile/williamkevinemmo
 ns
ATTENDEE;ROLE=REQ-PARTICIPANT;PARTSTAT=ACCEPTED;RSVP=TRUE;CN="Mike Can
 non":https://www.baristaexchange.com/profile/MikeCannon
ATTENDEE;ROLE=REQ-PARTICIPANT;PARTSTAT=ACCEPTED;RSVP=TRUE;CN="Sara Lou
 ise":https://www.baristaexchange.com/profile/SaraLouise
ATTENDEE;ROLE=REQ-PARTICIPANT;PARTSTAT=ACCEPTED;RSVP=TRUE;CN=Bre:https
 ://www.baristaexchange.com/profile/Bre
ATTENDEE;ROLE=REQ-PARTICIPANT;PARTSTAT=ACCEPTED;RSVP=TRUE;CN=Ray:https
 ://www.baristaexchange.com/profile/Ray
ATTENDEE;ROLE=REQ-PARTICIPANT;PARTSTAT=ACCEPTED;RSVP=TRUE;CN="Sarah Do
 oley":https://www.baristaexchange.com/profile/SarahDooley
ATTENDEE;ROLE=REQ-PARTICIPANT;PARTSTAT=ACCEPTED;RSVP=TRUE;CN="Rob Tutt
 le":https://www.baristaexchange.com/profile/RobTuttle
ATTENDEE;ROLE=REQ-PARTICIPANT;PARTSTAT=ACCEPTED;RSVP=TRUE;CN="Matt Mil
 letto":https://www.baristaexchange.com/profile/mattmilletto
ATTENDEE;ROLE=REQ-PARTICIPANT;PARTSTAT=TENTATIVE;RSVP=TRUE;CN="Chris H
 aines - Sunshine Dairy Foods":https://www.baristaexchange.com/profile/
 ChrisHainesSunshineDairyFoods
ATTENDEE;ROLE=REQ-PARTICIPANT;PARTSTAT=TENTATIVE;RSVP=TRUE;CN=Tyler:ht
 tps://www.baristaexchange.com/profile/Tyler
ATTENDEE;ROLE=REQ-PARTICIPANT;PARTSTAT=TENTATIVE;RSVP=TRUE;CN="Jesse -
 D->":https://www.baristaexchange.com/profile/JesseDarrow
END:VEVENT
END:VCALENDAR
