BEGIN:VCALENDAR
PRODID:NingEventWidget-v1
VERSION:2.0
METHOD:PUBLISH
BEGIN:VTIMEZONE
TZID:America/Los_Angeles
X-LIC-LOCATION:America/Los_Angeles
BEGIN:DAYLIGHT
TZOFFSETFROM:-0800
TZOFFSETTO:-0700
TZNAME:PDT
DTSTART:19700308T020000
RRULE:FREQ=YEARLY;BYMONTH=3;BYDAY=2SU
END:DAYLIGHT
BEGIN:STANDARD
TZOFFSETFROM:-0700
TZOFFSETTO:-0800
TZNAME:PST
DTSTART:19701101T020000
RRULE:FREQ=YEARLY;BYMONTH=11;BYDAY=1SU
END:STANDARD
END:VTIMEZONE
BEGIN:VEVENT
UID:1688216:Event:324668
DTSTAMP:20260422T141645Z
SUMMARY:United States Barista Championship 2009
DESCRIPTION:The United States Barista Championship (USBC) is an event 
 designed to encourage and recognize professional achievement in the ar
 t of espresso beverage preparation and service. Competitors will prepa
 re and service 12 coffee beverages - one espresso, one cappuccino, and
  one signature drink of their own creation, for four judges in a space
  of 15 minutes. The winner of the USBC goes on to represent the United
  States at the World Barista Championship. Thank you for your interest
  in attending the SCAA Barista Championship! We have worked hard in pr
 eparation to ensure that your experience is as fulfilling and also as 
 enjoyable as possible.\n\nThis years USBC will take place in Portland,
  OR at:\n\nOregon Convention Center\n777 NE MLK Jr. Blvd\nPortland, OR
  97232\n\nFor more information visit https://www.baristaexchange.com/e
 vents/united-states-barista
DTSTART;TZID=America/Los_Angeles:20090305T000000
DTEND;TZID=America/Los_Angeles:20090308T235900
CATEGORIES:barista, competition
LOCATION:Oregon Convention Center
WEBSITE:http://www.usbc2009.com
URL:http://www.usbc2009.com
CONTACT:
ORGANIZER:SCAA
ATTACH;FMTTYPE="image/jpeg":http://storage.ning.com/topology/rest/1.0/
 file/get/91905199?profile=original
ATTENDEE;ROLE=REQ-PARTICIPANT;PARTSTAT=ACCEPTED;RSVP=TRUE;CN="Parker H
 ill":https://www.baristaexchange.com/profile/ParkerHill
ATTENDEE;ROLE=REQ-PARTICIPANT;PARTSTAT=ACCEPTED;RSVP=TRUE;CN=JW:https:
 //www.baristaexchange.com/profile/JW
ATTENDEE;ROLE=REQ-PARTICIPANT;PARTSTAT=ACCEPTED;RSVP=TRUE;CN="Mike Can
 non":https://www.baristaexchange.com/profile/MikeCannon
ATTENDEE;ROLE=REQ-PARTICIPANT;PARTSTAT=ACCEPTED;RSVP=TRUE;CN=tom:https
 ://www.baristaexchange.com/profile/tom
ATTENDEE;ROLE=REQ-PARTICIPANT;PARTSTAT=ACCEPTED;RSVP=TRUE;CN="Alex T. 
 Fernandez":https://www.baristaexchange.com/profile/AlexFernandez
ATTENDEE;ROLE=REQ-PARTICIPANT;PARTSTAT=ACCEPTED;RSVP=TRUE;CN="Ginger G
 erhart":https://www.baristaexchange.com/profile/GingerGerhart
ATTENDEE;ROLE=REQ-PARTICIPANT;PARTSTAT=ACCEPTED;RSVP=TRUE;CN=Bre:https
 ://www.baristaexchange.com/profile/Bre
ATTENDEE;ROLE=REQ-PARTICIPANT;PARTSTAT=ACCEPTED;RSVP=TRUE;CN=Jonathan:
 https://www.baristaexchange.com/profile/Jonathan12
ATTENDEE;ROLE=REQ-PARTICIPANT;PARTSTAT=ACCEPTED;RSVP=TRUE;CN="Jesse -D
 ->":https://www.baristaexchange.com/profile/JesseDarrow
ATTENDEE;ROLE=REQ-PARTICIPANT;PARTSTAT=ACCEPTED;RSVP=TRUE;CN="Nick Cho
 ":https://www.baristaexchange.com/profile/NickCho
ATTENDEE;ROLE=REQ-PARTICIPANT;PARTSTAT=ACCEPTED;RSVP=TRUE;CN="Chris Ha
 ines - Sunshine Dairy Foods":https://www.baristaexchange.com/profile/C
 hrisHainesSunshineDairyFoods
ATTENDEE;ROLE=REQ-PARTICIPANT;PARTSTAT=ACCEPTED;RSVP=TRUE;CN="Heather 
 Ringwood":https://www.baristaexchange.com/profile/HeatherRingwood
ATTENDEE;ROLE=REQ-PARTICIPANT;PARTSTAT=ACCEPTED;RSVP=TRUE;CN=Ray:https
 ://www.baristaexchange.com/profile/Ray
ATTENDEE;ROLE=REQ-PARTICIPANT;PARTSTAT=ACCEPTED;RSVP=TRUE;CN="Anthony 
 Salas":https://www.baristaexchange.com/profile/AnthonySalas
ATTENDEE;ROLE=REQ-PARTICIPANT;PARTSTAT=ACCEPTED;RSVP=TRUE;CN="Charles 
 Weber":https://www.baristaexchange.com/profile/CharlesWeber
ATTENDEE;ROLE=REQ-PARTICIPANT;PARTSTAT=ACCEPTED;RSVP=TRUE;CN="william 
 kevin emmons":https://www.baristaexchange.com/profile/williamkevinemmo
 ns
ATTENDEE;ROLE=REQ-PARTICIPANT;PARTSTAT=ACCEPTED;RSVP=TRUE;CN="Scott Br
 uggman":https://www.baristaexchange.com/profile/ScottBruggman
ATTENDEE;ROLE=REQ-PARTICIPANT;PARTSTAT=ACCEPTED;RSVP=TRUE;CN="Lorenzo 
 Perkins":https://www.baristaexchange.com/profile/Lorenzo
ATTENDEE;ROLE=REQ-PARTICIPANT;PARTSTAT=ACCEPTED;RSVP=TRUE;CN="Heath He
 nley":https://www.baristaexchange.com/profile/HeathHenley
ATTENDEE;ROLE=REQ-PARTICIPANT;PARTSTAT=ACCEPTED;RSVP=TRUE;CN="Matt Bro
 wn":https://www.baristaexchange.com/profile/MattBrown
ATTENDEE;ROLE=REQ-PARTICIPANT;PARTSTAT=ACCEPTED;RSVP=TRUE;CN="Tamara V
 igil":https://www.baristaexchange.com/profile/TamaraVigil
ATTENDEE;ROLE=REQ-PARTICIPANT;PARTSTAT=ACCEPTED;RSVP=TRUE;CN="Nicole M
 ichaud":https://www.baristaexchange.com/profile/NicoleMichaud
ATTENDEE;ROLE=REQ-PARTICIPANT;PARTSTAT=ACCEPTED;RSVP=TRUE;CN="Rob Tutt
 le":https://www.baristaexchange.com/profile/RobTuttle
ATTENDEE;ROLE=REQ-PARTICIPANT;PARTSTAT=ACCEPTED;RSVP=TRUE;CN=Tyler:htt
 ps://www.baristaexchange.com/profile/Tyler
ATTENDEE;ROLE=REQ-PARTICIPANT;PARTSTAT=ACCEPTED;RSVP=TRUE;CN="Pedal Pr
 ess":https://www.baristaexchange.com/profile/ChristopherBryner
ATTENDEE;ROLE=REQ-PARTICIPANT;PARTSTAT=ACCEPTED;RSVP=TRUE;CN="Joseph R
 obertson":https://www.baristaexchange.com/profile/JosephRobertson
ATTENDEE;ROLE=REQ-PARTICIPANT;PARTSTAT=ACCEPTED;RSVP=TRUE;CN="Dave Whi
 te":https://www.baristaexchange.com/profile/DaveWhite
ATTENDEE;ROLE=REQ-PARTICIPANT;PARTSTAT=ACCEPTED;RSVP=TRUE;CN="Matt Mil
 letto":https://www.baristaexchange.com/profile/mattmilletto
ATTENDEE;ROLE=REQ-PARTICIPANT;PARTSTAT=TENTATIVE;RSVP=TRUE;CN="Kevin K
 opke":https://www.baristaexchange.com/profile/KevinKopke
ATTENDEE;ROLE=REQ-PARTICIPANT;PARTSTAT=TENTATIVE;RSVP=TRUE;CN=paulito:
 https://www.baristaexchange.com/profile/paultio
END:VEVENT
END:VCALENDAR
