BEGIN:VCALENDAR
PRODID:NingEventWidget-v1
VERSION:2.0
METHOD:PUBLISH
BEGIN:VTIMEZONE
TZID:America/Los_Angeles
X-LIC-LOCATION:America/Los_Angeles
BEGIN:DAYLIGHT
TZOFFSETFROM:-0800
TZOFFSETTO:-0700
TZNAME:PDT
DTSTART:19700308T020000
RRULE:FREQ=YEARLY;BYMONTH=3;BYDAY=2SU
END:DAYLIGHT
BEGIN:STANDARD
TZOFFSETFROM:-0700
TZOFFSETTO:-0800
TZNAME:PST
DTSTART:19701101T020000
RRULE:FREQ=YEARLY;BYMONTH=11;BYDAY=1SU
END:STANDARD
END:VTIMEZONE
BEGIN:VEVENT
UID:1688216:Event:334068
DTSTAMP:20260422T171653Z
SUMMARY:Ultimate Barista Challenge USA
DESCRIPTION:Dueling Barista Challenges in Latte Art, Espresso Frappe, 
 Espresso Cocktail and Best of Brew. Winners in qualifying rounds selec
 t which Ultimate Barista they wish to challenge. Occurs at Food and Ho
 spitality Expos throughout the USA and internationally. Free entry. Fu
 n, fast and furious to introduce chefs into the coffee world!\n\nFor m
 ore information visit https://www.baristaexchange.com/events/ultimate-
 barista-challenge-usa
DTSTART;TZID=America/Los_Angeles:20090301T100000
DTEND;TZID=America/Los_Angeles:20090303T170000
CATEGORIES:barista, competition
LOCATION:Javits Convention Center NYC
WEBSITE:http://www.ultimatebaristachallenge.com
URL:http://www.ultimatebaristachallenge.com
CONTACT:503-232-1016
ORGANIZER;CN="Sherri Johns":https://www.baristaexchange.com/profile/Sh
 erriJohns
ATTACH;FMTTYPE="image/jpeg":http://storage.ning.com/topology/rest/1.0/
 file/get/91905528?profile=original
ATTENDEE;ROLE=REQ-PARTICIPANT;PARTSTAT=ACCEPTED;RSVP=TRUE;CN="Courtney
  Baber":https://www.baristaexchange.com/profile/CourtneyBaber
ATTENDEE;ROLE=REQ-PARTICIPANT;PARTSTAT=ACCEPTED;RSVP=TRUE;CN="Sherri J
 ohns":https://www.baristaexchange.com/profile/SherriJohns
END:VEVENT
END:VCALENDAR
