BEGIN:VCALENDAR
PRODID:NingEventWidget-v1
VERSION:2.0
METHOD:PUBLISH
BEGIN:VTIMEZONE
TZID:America/Los_Angeles
X-LIC-LOCATION:America/Los_Angeles
BEGIN:DAYLIGHT
TZOFFSETFROM:-0800
TZOFFSETTO:-0700
TZNAME:PDT
DTSTART:19700308T020000
RRULE:FREQ=YEARLY;BYMONTH=3;BYDAY=2SU
END:DAYLIGHT
BEGIN:STANDARD
TZOFFSETFROM:-0700
TZOFFSETTO:-0800
TZNAME:PST
DTSTART:19701101T020000
RRULE:FREQ=YEARLY;BYMONTH=11;BYDAY=1SU
END:STANDARD
END:VTIMEZONE
BEGIN:VEVENT
UID:1688216:Event:565289
DTSTAMP:20260423T040818Z
SUMMARY:Ultimate Barista Challenge USA
DESCRIPTION:The UBC is a unique dueling format of Barista Competition 
 designed to challenge professional baristi, in a fast paced, fun envir
 onment with diverse categories of Latte Art, Espresso Frappe, Espresso
  Cocktail and Best of Brew Challenges. Categories that will expand the
  role of a barista and educate chefs and others about the importance a
  barista can be to their businesses and showcase the barista creativit
 y.\n\nThe Ultimate Barista Challenge (UBC) is an open competition. Bar
 isti enter and compete in a qualifying round and those who win go on t
 o challenge an Ultimate Barista of their choice to compete in a one-on
 -one dueling final contest of fast-paced espresso excellence. For more
  info, to register, or inquire about available sponsorships, please vi
 sit www.ultimatebaristachallenge.com.\n\nMs Heather Perry is the Ultim
 ate Barista USA and will be \"up for the challenge\" in San Diego.\n\n
 For more information visit https://www.baristaexchange.com/events/ulti
 mate-barista-challenge-usa-1
DTSTART;TZID=America/Los_Angeles:20090830T110000
DTEND;TZID=America/Los_Angeles:20090901T160000
CATEGORIES:barista, competition
LOCATION:San Diego Convention Center
WEBSITE:http://www. ultimatebaristachallange.com
URL:http://www. ultimatebaristachallange.com
CONTACT:1.503.232.1016
ORGANIZER:Sherri Johns, WholeCup Coffee Consulting, LLC
ATTACH;FMTTYPE="image/jpeg":http://storage.ning.com/topology/rest/1.0/
 file/get/91908977?profile=original
ATTENDEE;ROLE=REQ-PARTICIPANT;PARTSTAT=ACCEPTED;RSVP=TRUE;CN="Sherri J
 ohns":https://www.baristaexchange.com/profile/SherriJohns
END:VEVENT
END:VCALENDAR
