BEGIN:VCALENDAR
PRODID:NingEventWidget-v1
VERSION:2.0
METHOD:PUBLISH
BEGIN:VTIMEZONE
TZID:America/Los_Angeles
X-LIC-LOCATION:America/Los_Angeles
BEGIN:DAYLIGHT
TZOFFSETFROM:-0800
TZOFFSETTO:-0700
TZNAME:PDT
DTSTART:19700308T020000
RRULE:FREQ=YEARLY;BYMONTH=3;BYDAY=2SU
END:DAYLIGHT
BEGIN:STANDARD
TZOFFSETFROM:-0700
TZOFFSETTO:-0800
TZNAME:PST
DTSTART:19701101T020000
RRULE:FREQ=YEARLY;BYMONTH=11;BYDAY=1SU
END:STANDARD
END:VTIMEZONE
BEGIN:VEVENT
UID:1688216:Event:1029810
DTSTAMP:20260421T063342Z
SUMMARY:Ultimate Barista Challenge at the 6th Annual Coffee & Tea Fest
 ival of New York City
DESCRIPTION:Join local baristi as they duke it out at the Ultimate Bar
 ista Challenge in Latte Art and Best of Brew (Chemex) in this﻿﻿ d
 ueling barista competition with latte art and espresso cocktail demons
 trations, tastings and more. This UBC is featured at the 6th Annual Co
 ffee & Tea Festival of NYC. Come on, have some fun. \n\nFor more infor
 mation visit https://www.baristaexchange.com/events/ultimate-barista-c
 hallenge-at
DTSTART;TZID=America/Los_Angeles:20110219T000000
DTEND;TZID=America/Los_Angeles:20110220T235900
CATEGORIES:barista, competition
LOCATION:7W New York
WEBSITE:http://www.ultimatebaristachallenge.com
URL:http://www.ultimatebaristachallenge.com
CONTACT:503.232.1016
ORGANIZER;CN="Sherri Johns":https://www.baristaexchange.com/profile/Sh
 erriJohns
ATTACH;FMTTYPE="image/jpeg":http://storage.ning.com/topology/rest/1.0/
 file/get/91921139?profile=original
ATTENDEE;ROLE=REQ-PARTICIPANT;PARTSTAT=ACCEPTED;RSVP=TRUE;CN="Sherri J
 ohns":https://www.baristaexchange.com/profile/SherriJohns
END:VEVENT
END:VCALENDAR
