BEGIN:VCALENDAR
PRODID:NingEventWidget-v1
VERSION:2.0
METHOD:PUBLISH
BEGIN:VTIMEZONE
TZID:America/Los_Angeles
X-LIC-LOCATION:America/Los_Angeles
BEGIN:DAYLIGHT
TZOFFSETFROM:-0800
TZOFFSETTO:-0700
TZNAME:PDT
DTSTART:19700308T020000
RRULE:FREQ=YEARLY;BYMONTH=3;BYDAY=2SU
END:DAYLIGHT
BEGIN:STANDARD
TZOFFSETFROM:-0700
TZOFFSETTO:-0800
TZNAME:PST
DTSTART:19701101T020000
RRULE:FREQ=YEARLY;BYMONTH=11;BYDAY=1SU
END:STANDARD
END:VTIMEZONE
BEGIN:VEVENT
UID:1688216:Event:565312
DTSTAMP:20260423T054245Z
SUMMARY:Ultimate Barista Challenge Americas Showdown
DESCRIPTION:The UBC Americas Showdown is a coffee and espresso competi
 tion where Ultimate Baristi from New York and Texas compete in a varie
 ty of one on one duels in Latte Art, Espresso Frappe, Espresso Cocktai
 ls and Best of Brew French Press, to win the right to become, \"The Ul
 timate Barista\". Particpating Ultimate Baristi are Mike Love, Coffee 
 Labs Roasters - NY, Sean Marshall, Fusion Beans and Clancy Rose, Cuvee
  Coffee both of Texas.\n\nFor more information visit https://www.baris
 taexchange.com/events/ultimate-barista-challenge-2
DTSTART;TZID=America/Los_Angeles:20090911T110000
DTEND;TZID=America/Los_Angeles:20090913T160000
CATEGORIES:barista, competition, showcase
LOCATION:Orange County Convention Center
WEBSITE:http://www.ultimatebaristachallenge.com
URL:http://www.ultimatebaristachallenge.com
CONTACT:503.232.1016
ORGANIZER:WholeCup Coffee Consulting, LLC
ATTACH;FMTTYPE="image/jpeg":http://storage.ning.com/topology/rest/1.0/
 file/get/91909029?profile=original
ATTENDEE;ROLE=REQ-PARTICIPANT;PARTSTAT=ACCEPTED;RSVP=TRUE;CN="Sherri J
 ohns":https://www.baristaexchange.com/profile/SherriJohns
END:VEVENT
END:VCALENDAR
