BEGIN:VCALENDAR
PRODID:NingEventWidget-v1
VERSION:2.0
METHOD:PUBLISH
BEGIN:VTIMEZONE
TZID:America/Los_Angeles
X-LIC-LOCATION:America/Los_Angeles
BEGIN:DAYLIGHT
TZOFFSETFROM:-0800
TZOFFSETTO:-0700
TZNAME:PDT
DTSTART:19700308T020000
RRULE:FREQ=YEARLY;BYMONTH=3;BYDAY=2SU
END:DAYLIGHT
BEGIN:STANDARD
TZOFFSETFROM:-0700
TZOFFSETTO:-0800
TZNAME:PST
DTSTART:19701101T020000
RRULE:FREQ=YEARLY;BYMONTH=11;BYDAY=1SU
END:STANDARD
END:VTIMEZONE
BEGIN:VEVENT
UID:1688216:Event:881956
DTSTAMP:20260423T082333Z
SUMMARY:UK Coffee Week
DESCRIPTION:Allegra Foundation is very proud to announce the launch of
  the first ever UK Coffee Week™ between 27 September – 3 October 2
 010.\n\nUK Coffee Week™ will be an annual programme to promote the s
 uccess and vibrancy of the UK coffee and foodservice sector.\n\nIt pro
 vides a valuable opportunity for the coffee industry and consumers to 
 give back to an extremely worthy cause. Money raised during UK Coffee 
 Week™ will help raise awareness and benefit Project Waterfall – an
  initiative to provide clean drinking water and education to underpriv
 ileged communities in African coffee producing countries.\n\n100% of a
 ll customer donations will go directly to fund Project Waterfall.\n\nU
 K Coffee Week™ will incorporate various in-store and regional activi
 ties around the UK. We hope to raise up to £1 million with your help.
 \n\nFor more information visit https://www.baristaexchange.com/events/
 uk-coffee-week
DTSTART;TZID=America/Los_Angeles:20100927T000000
DTEND;TZID=America/Los_Angeles:20101003T235900
CATEGORIES:fundraising, event
LOCATION:Nationwide
WEBSITE:http://ukcoffeeweek.co.uk/
URL:http://ukcoffeeweek.co.uk/
CONTACT:
ORGANIZER;CN="UK Coffee Week":https://www.baristaexchange.com/profile/
 UKCoffeeWeek
ATTACH;FMTTYPE="image/jpeg":http://storage.ning.com/topology/rest/1.0/
 file/get/91918705?profile=original
ATTENDEE;ROLE=REQ-PARTICIPANT;PARTSTAT=ACCEPTED;RSVP=TRUE;CN="UK Coffe
 e Week":https://www.baristaexchange.com/profile/UKCoffeeWeek
END:VEVENT
END:VCALENDAR
