BEGIN:VCALENDAR
PRODID:NingEventWidget-v1
VERSION:2.0
METHOD:PUBLISH
BEGIN:VTIMEZONE
TZID:America/Los_Angeles
X-LIC-LOCATION:America/Los_Angeles
BEGIN:DAYLIGHT
TZOFFSETFROM:-0800
TZOFFSETTO:-0700
TZNAME:PDT
DTSTART:19700308T020000
RRULE:FREQ=YEARLY;BYMONTH=3;BYDAY=2SU
END:DAYLIGHT
BEGIN:STANDARD
TZOFFSETFROM:-0700
TZOFFSETTO:-0800
TZNAME:PST
DTSTART:19701101T020000
RRULE:FREQ=YEARLY;BYMONTH=11;BYDAY=1SU
END:STANDARD
END:VTIMEZONE
BEGIN:VEVENT
UID:1688216:Event:838387
DTSTAMP:20260424T121817Z
SUMMARY:UK CEZVE/IBRIK CHAMPIONSHIPS
DESCRIPTION:The newest of all the competitions celebrates coffee that 
 is produced in the tradition of Greece, Turkey and the Middle East. Th
 is colourful competition has created great interest at the world final
 s helped greatly by elaborate costumes, entertainment and, of course, 
 great coffee. The UK has been represented in the past by Aysin, who ca
 me third in the world in 2009, for this event. This Year we have a Nat
 ional Cezve/Ibrik Championship on 23rd of May being held at Ishtar Res
 taurant London.We hope to see everyone there\n\nFor more information v
 isit https://www.baristaexchange.com/events/uk-cezveibrik-championship
 s
DTSTART;TZID=America/Los_Angeles:20100523T130000
DTEND;TZID=America/Los_Angeles:20100523T190000
CATEGORIES:coffee, competition
LOCATION:London
WEBSITE:http://www.ishtarrestaurant.com
URL:http://www.ishtarrestaurant.com
CONTACT:07804 659 108
ORGANIZER:SCAEUK   SPONSORS; TURKISH FORUM/ ISHTAR RESTAURANT/ MAMBOCI
 NO COFFEE
ATTACH;FMTTYPE="image/jpeg":http://storage.ning.com/topology/rest/1.0/
 file/get/91917480?profile=original
ATTENDEE;ROLE=REQ-PARTICIPANT;PARTSTAT=ACCEPTED;RSVP=TRUE;CN="Aysin Ay
 dogdu":https://www.baristaexchange.com/profile/AysinAydogdu
END:VEVENT
END:VCALENDAR
