BEGIN:VCALENDAR
PRODID:NingEventWidget-v1
VERSION:2.0
METHOD:PUBLISH
BEGIN:VTIMEZONE
TZID:America/Los_Angeles
X-LIC-LOCATION:America/Los_Angeles
BEGIN:DAYLIGHT
TZOFFSETFROM:-0800
TZOFFSETTO:-0700
TZNAME:PDT
DTSTART:19700308T020000
RRULE:FREQ=YEARLY;BYMONTH=3;BYDAY=2SU
END:DAYLIGHT
BEGIN:STANDARD
TZOFFSETFROM:-0700
TZOFFSETTO:-0800
TZNAME:PST
DTSTART:19701101T020000
RRULE:FREQ=YEARLY;BYMONTH=11;BYDAY=1SU
END:STANDARD
END:VTIMEZONE
BEGIN:VEVENT
UID:1688216:Event:495688
DTSTAMP:20260421T131357Z
SUMMARY:Tweet for a Treat
DESCRIPTION:Rogers Estate Coffees is running a Twitter contest that gi
 ves UK coffee enthusiasts the chance to win free flavoured coffee. A c
 offee-related question will be published on the Rogers Coffees Twitter
  page every day until the 17th June.\n\nTo take part in this event all
  you need to do is:\n\nSign up to Twitter (if you don't have an accoun
 t already).\n\nFollow RogersCoffees.\n\nAnswer our daily question (pos
 ted between 9am and 1pm GMT) in the fastest time.\n\nFor full details 
 please visit http://www.rogersestatecoffees.co.uk/cremapress/2009/05/t
 weet-for-a-treat/\n\nGood luck!\n\nFor more information visit https://
 www.baristaexchange.com/events/tweet-for-a-treat
DTSTART;TZID=America/Los_Angeles:20090601T180000
DTEND;TZID=America/Los_Angeles:20090617T090000
CATEGORIES:twitter
LOCATION:UK
WEBSITE:http://www.rogersestatecoffees.co.uk/cremapress/2009/05/tweet-
 for-a-treat/
URL:http://www.rogersestatecoffees.co.uk/cremapress/2009/05/tweet-for-
 a-treat/
CONTACT:
ORGANIZER;CN="Rogers Estate Coffees":https://www.baristaexchange.com/p
 rofile/RogersEstateCoffees
ATTACH;FMTTYPE="image/jpeg":
ATTENDEE;ROLE=REQ-PARTICIPANT;PARTSTAT=ACCEPTED;RSVP=TRUE;CN="Rogers E
 state Coffees":https://www.baristaexchange.com/profile/RogersEstateCof
 fees
END:VEVENT
END:VCALENDAR
