BEGIN:VCALENDAR
PRODID:NingEventWidget-v1
VERSION:2.0
METHOD:PUBLISH
BEGIN:VTIMEZONE
TZID:America/Los_Angeles
X-LIC-LOCATION:America/Los_Angeles
BEGIN:DAYLIGHT
TZOFFSETFROM:-0800
TZOFFSETTO:-0700
TZNAME:PDT
DTSTART:19700308T020000
RRULE:FREQ=YEARLY;BYMONTH=3;BYDAY=2SU
END:DAYLIGHT
BEGIN:STANDARD
TZOFFSETFROM:-0700
TZOFFSETTO:-0800
TZNAME:PST
DTSTART:19701101T020000
RRULE:FREQ=YEARLY;BYMONTH=11;BYDAY=1SU
END:STANDARD
END:VTIMEZONE
BEGIN:VEVENT
UID:1688216:Event:979770
DTSTAMP:20260422T072242Z
SUMMARY:Tsudas Boutique Coffee Grand Opening
DESCRIPTION:Grand Opening Tsudas Boutique Coffee...a new aspect of Tsu
 das Old Town Eatery in historic Auburn California. Please join us as w
 e introduce fine coffees from all over the world, roasted by Temple Co
 ffee Roasters of Sacramento. We are so proud to be the 1st and only sp
 ecialty coffee house in Auburn. We look forward to bringing quality to
  our community... indulge in your senses and taste the difference!\n\n
 For more information visit https://www.baristaexchange.com/events/tsud
 as-boutique-coffee-grand
DTSTART;TZID=America/Los_Angeles:20101217T180000
DTEND;TZID=America/Los_Angeles:20101217T210000
CATEGORIES:grand, opening
LOCATION:Tsudas Coffee Boutique Grand Opening
WEBSITE:http://maps.google.com/maps?f=q&source=s_q&hl=en&geocode=&q=10
 3+Sacramento+Street,+Auburn,+CA&sll=37.0625,-95.677068&sspn=17.497626,
 35.244141&ie=UTF8&hq=&hnear=103+Sacramento+St,+Auburn,+Placer,+Califor
 nia+95603&ll=38.902055,-121.078348&spn=0.008349,0.017209&z=15&iwloc=r1
URL:http://maps.google.com/maps?f=q&source=s_q&hl=en&geocode=&q=103+Sa
 cramento+Street,+Auburn,+CA&sll=37.0625,-95.677068&sspn=17.497626,35.2
 44141&ie=UTF8&hq=&hnear=103+Sacramento+St,+Auburn,+Placer,+California+
 95603&ll=38.902055,-121.078348&spn=0.008349,0.017209&z=15&iwloc=r1
CONTACT:530-823-2233
ORGANIZER;CN="Jessica Woods":https://www.baristaexchange.com/profile/J
 essicaWoods
ATTACH;FMTTYPE="image/jpeg":
ATTENDEE;ROLE=REQ-PARTICIPANT;PARTSTAT=ACCEPTED;RSVP=TRUE;CN="Kevin Wo
 ldhagen":https://www.baristaexchange.com/profile/KevinWoldhagen
ATTENDEE;ROLE=REQ-PARTICIPANT;PARTSTAT=ACCEPTED;RSVP=TRUE;CN="Alexandr
 a Carnahan":https://www.baristaexchange.com/profile/AlexandraCarnahan
ATTENDEE;ROLE=REQ-PARTICIPANT;PARTSTAT=ACCEPTED;RSVP=TRUE;CN="Jessica 
 Woods":https://www.baristaexchange.com/profile/JessicaWoods
END:VEVENT
END:VCALENDAR
