BEGIN:VCALENDAR
PRODID:NingEventWidget-v1
VERSION:2.0
METHOD:PUBLISH
BEGIN:VTIMEZONE
TZID:America/Los_Angeles
X-LIC-LOCATION:America/Los_Angeles
BEGIN:DAYLIGHT
TZOFFSETFROM:-0800
TZOFFSETTO:-0700
TZNAME:PDT
DTSTART:19700308T020000
RRULE:FREQ=YEARLY;BYMONTH=3;BYDAY=2SU
END:DAYLIGHT
BEGIN:STANDARD
TZOFFSETFROM:-0700
TZOFFSETTO:-0800
TZNAME:PST
DTSTART:19701101T020000
RRULE:FREQ=YEARLY;BYMONTH=11;BYDAY=1SU
END:STANDARD
END:VTIMEZONE
BEGIN:VEVENT
UID:1688216:Event:935242
DTSTAMP:20260422T164922Z
SUMMARY:Trabant Coffee and Chai present \"Trainwreck: a Coffee Fest/Ha
 loween Party
DESCRIPTION:Trabant Pioneer Square is proud to host our second Coffee 
 Fest party. Come dressed in Halloween attire(there will be prizes), an
 d get ready for the ultimate barista challenge, the drunken pour-off. 
 Funky jams provided by DJ Trashnasty and local brews from Hales Ales. 
 Get ready for a trainwreck.\n\nFor more information visit https://www.
 baristaexchange.com/events/trabant-coffee-and-chai
DTSTART;TZID=America/Los_Angeles:20101029T200000
DTEND;TZID=America/Los_Angeles:20101030T020000
CATEGORIES:"party!"
LOCATION:Trabant Pioneer Square
WEBSITE:http://trabantcoffee.com
URL:http://trabantcoffee.com
CONTACT:909-534-0062
ORGANIZER;CN=Matthew:https://www.baristaexchange.com/profile/matthewga
 rrisonlongoria
ATTACH;FMTTYPE="image/jpeg":http://storage.ning.com/topology/rest/1.0/
 file/get/91919723?profile=original
ATTENDEE;ROLE=REQ-PARTICIPANT;PARTSTAT=ACCEPTED;RSVP=TRUE;CN="Mike Gre
 gory":https://www.baristaexchange.com/profile/MikeG
ATTENDEE;ROLE=REQ-PARTICIPANT;PARTSTAT=ACCEPTED;RSVP=TRUE;CN=Matthew:h
 ttps://www.baristaexchange.com/profile/matthewgarrisonlongoria
ATTENDEE;ROLE=REQ-PARTICIPANT;PARTSTAT=TENTATIVE;RSVP=TRUE;CN="Andrew 
 R. Tucker":https://www.baristaexchange.com/profile/AndrewRTucker
ATTENDEE;ROLE=REQ-PARTICIPANT;PARTSTAT=TENTATIVE;RSVP=TRUE;CN="John  M
 angrum jr":https://www.baristaexchange.com/profile/JohnMangrumjr
END:VEVENT
END:VCALENDAR
