BEGIN:VCALENDAR
PRODID:NingEventWidget-v1
VERSION:2.0
METHOD:PUBLISH
BEGIN:VTIMEZONE
TZID:America/Los_Angeles
X-LIC-LOCATION:America/Los_Angeles
BEGIN:DAYLIGHT
TZOFFSETFROM:-0800
TZOFFSETTO:-0700
TZNAME:PDT
DTSTART:19700308T020000
RRULE:FREQ=YEARLY;BYMONTH=3;BYDAY=2SU
END:DAYLIGHT
BEGIN:STANDARD
TZOFFSETFROM:-0700
TZOFFSETTO:-0800
TZNAME:PST
DTSTART:19701101T020000
RRULE:FREQ=YEARLY;BYMONTH=11;BYDAY=1SU
END:STANDARD
END:VTIMEZONE
BEGIN:VEVENT
UID:1688216:Event:692903
DTSTAMP:20260424T085909Z
SUMMARY:Top Cup Challenge
DESCRIPTION:Pacific Natural Foods is hosting the 3rd Top Cup Challenge
  at Coffee Fest Minneapolis!\n\nSteam to win, use one of Pacific Natur
 al Foods' Barista Series Soy Blenders or Soy Frappe and Smoothie Base 
 in one of your signature drinks and win big. Cash prizes to the top 3 
 winners in each category, hot and cold!\n\nFill out an application by 
 visiting the Coffee Fest website or www.pacificfoods.com and fax or em
 ail back to (312) 280-9203 or rachelt@olsoncom.com\n\nEvent Location\n
 Minneapolis Convention Center\n1301 2nd Ave\nMinneapolis, MN 55403-271
 0\n(612) 335-6000\n\n\nEvent Date\nJune 4-5, 2010\n\nCompetition Hours
 \nFriday: 1:00pm - 4:00pm\nSaturday: 1:00pm - 4:00pm\n\nBooth Number\n
 204 & 206 – 20’ space\n\nFor more information visit https://www.ba
 ristaexchange.com/events/top-cup-challenge
DTSTART;TZID=America/Los_Angeles:20100604T130000
DTEND;TZID=America/Los_Angeles:20100605T160000
CATEGORIES:competition
LOCATION:Coffee Fest Minneapolis
WEBSITE:http://www.pacificfoods.com/foodservice
URL:http://www.pacificfoods.com/foodservice
CONTACT:312-280-4573
ORGANIZER;CN="Rachel Tracy":https://www.baristaexchange.com/profile/Ra
 chelTracy
ATTACH;FMTTYPE="image/jpeg":http://storage.ning.com/topology/rest/1.0/
 file/get/91915772?profile=original
ATTENDEE;ROLE=REQ-PARTICIPANT;PARTSTAT=ACCEPTED;RSVP=TRUE;CN="Heather 
 Holly Haller":https://www.baristaexchange.com/profile/Heather
ATTENDEE;ROLE=REQ-PARTICIPANT;PARTSTAT=ACCEPTED;RSVP=TRUE;CN="Rachel T
 racy":https://www.baristaexchange.com/profile/RachelTracy
ATTENDEE;ROLE=REQ-PARTICIPANT;PARTSTAT=ACCEPTED;RSVP=TRUE;CN="Sarah Al
 len":https://www.baristaexchange.com/profile/SarahAllen
ATTENDEE;ROLE=REQ-PARTICIPANT;PARTSTAT=ACCEPTED;RSVP=TRUE;CN="Barbara 
 Adams":https://www.baristaexchange.com/profile/BarbaraAdams
END:VEVENT
END:VCALENDAR
