BEGIN:VCALENDAR
PRODID:NingEventWidget-v1
VERSION:2.0
METHOD:PUBLISH
BEGIN:VTIMEZONE
TZID:America/Los_Angeles
X-LIC-LOCATION:America/Los_Angeles
BEGIN:DAYLIGHT
TZOFFSETFROM:-0800
TZOFFSETTO:-0700
TZNAME:PDT
DTSTART:19700308T020000
RRULE:FREQ=YEARLY;BYMONTH=3;BYDAY=2SU
END:DAYLIGHT
BEGIN:STANDARD
TZOFFSETFROM:-0700
TZOFFSETTO:-0800
TZNAME:PST
DTSTART:19701101T020000
RRULE:FREQ=YEARLY;BYMONTH=11;BYDAY=1SU
END:STANDARD
END:VTIMEZONE
BEGIN:VEVENT
UID:1688216:Event:614334
DTSTAMP:20260424T031149Z
SUMMARY:Top Cup Challenge at Coffee Fest Seattle
DESCRIPTION:Pacific Natural Foods presents the first annual Top Cup Ch
 allenge at Coffee Fest Seattle. The Barista Series product line takes 
 center stage as contestants wield the natural beverages in a contest t
 hat requires creativity and innovation. The tastiest hot or cold drink
 s earn the drinkmaker a $300 prize. Second and third place winners wil
 l also earn cash prizes from Pacific Natural Foods.\n\nFrom 1:00 to 4:
 00 Friday and Saturday at Coffee Fest's three-day show, contestants wi
 ll take up to 15 minutes to craft their drink in front of two judges. 
 All drinks are considered as long as the main ingredient is a Pacific 
 Natural Foods Barista Series product. Applications for the contest are
  available by going to http://www.coffeefest.com/Event/Attendee/Defaul
 t.aspx#SoyOpen.\n\n**Fax your application back to Coffee Fest at 425-2
 95-3295.**\n\nFor more information visit https://www.baristaexchange.c
 om/events/top-cup-challenge-at-coffee
DTSTART;TZID=America/Los_Angeles:20090925T130000
DTEND;TZID=America/Los_Angeles:20090926T160000
CATEGORIES:competition
LOCATION:Washington State Convention & Trade Center
WEBSITE:http://www.coffeefest.com/Event/Attendee/Default.aspx#SoyOpen
URL:http://www.coffeefest.com/Event/Attendee/Default.aspx#SoyOpen
CONTACT:
ORGANIZER:Pacific Natural Foods
ATTACH;FMTTYPE="image/jpeg":http://storage.ning.com/topology/rest/1.0/
 file/get/91910422?profile=original
ATTENDEE;ROLE=REQ-PARTICIPANT;PARTSTAT=ACCEPTED;RSVP=TRUE;CN="Alex Neg
 ranza":https://www.baristaexchange.com/profile/AlexNegranza
ATTENDEE;ROLE=REQ-PARTICIPANT;PARTSTAT=ACCEPTED;RSVP=TRUE;CN="Matt Mil
 letto":https://www.baristaexchange.com/profile/mattmilletto
ATTENDEE;ROLE=REQ-PARTICIPANT;PARTSTAT=ACCEPTED;RSVP=TRUE;CN="Rachel T
 racy":https://www.baristaexchange.com/profile/RachelTracy
ATTENDEE;ROLE=REQ-PARTICIPANT;PARTSTAT=TENTATIVE;RSVP=TRUE;CN="william
  kevin emmons":https://www.baristaexchange.com/profile/williamkevinemm
 ons
END:VEVENT
END:VCALENDAR
