BEGIN:VCALENDAR
PRODID:NingEventWidget-v1
VERSION:2.0
METHOD:PUBLISH
BEGIN:VTIMEZONE
TZID:America/Los_Angeles
X-LIC-LOCATION:America/Los_Angeles
BEGIN:DAYLIGHT
TZOFFSETFROM:-0800
TZOFFSETTO:-0700
TZNAME:PDT
DTSTART:19700308T020000
RRULE:FREQ=YEARLY;BYMONTH=3;BYDAY=2SU
END:DAYLIGHT
BEGIN:STANDARD
TZOFFSETFROM:-0700
TZOFFSETTO:-0800
TZNAME:PST
DTSTART:19701101T020000
RRULE:FREQ=YEARLY;BYMONTH=11;BYDAY=1SU
END:STANDARD
END:VTIMEZONE
BEGIN:VEVENT
UID:1688216:Event:616880
DTSTAMP:20260423T072543Z
SUMMARY:Tony Serrano of Barefoot Coffee Roasters @ Tiago Espresso Bar
DESCRIPTION:Tomorrow Friday Sept 11\n\nJoin Tiago Espresso Bar for an 
 evening of coffee cupping with special guest, â€śThe Coffee Wranglerâ€
 ť Tony Serrano from Barefoot Coffee.\n\nWeâ€™ll be trying out some of 
 Barefootâ€™s signature single origin blends.\n\nPlease send me an emai
 l at management@tiagocoffee.com if you're interested in attending!\n\n
 Starts at 6 pm\nAnd itâ€™s FREE\n\n\n\nFor more information visit http
 s://www.baristaexchange.com/events/tony-serrano-of-barefoot
DTSTART;TZID=America/Los_Angeles:20090911T180000
DTEND;TZID=America/Los_Angeles:20090911T190000
CATEGORIES:coffee, cupping
LOCATION:Tiago Espresso Bar + Kitchen
WEBSITE:http://www.tiagocoffee.com
URL:http://www.tiagocoffee.com
CONTACT:323-466-5600
ORGANIZER:Tony Serrano, Barefoot Coffee Roasters
ATTACH;FMTTYPE="image/jpeg":http://storage.ning.com/topology/rest/1.0/
 file/get/91910500?profile=original
ATTENDEE;ROLE=REQ-PARTICIPANT;PARTSTAT=ACCEPTED;RSVP=TRUE;CN=Selina:ht
 tps://www.baristaexchange.com/profile/Selina
END:VEVENT
END:VCALENDAR
