BEGIN:VCALENDAR
PRODID:NingEventWidget-v1
VERSION:2.0
METHOD:PUBLISH
BEGIN:VTIMEZONE
TZID:America/Los_Angeles
X-LIC-LOCATION:America/Los_Angeles
BEGIN:DAYLIGHT
TZOFFSETFROM:-0800
TZOFFSETTO:-0700
TZNAME:PDT
DTSTART:19700308T020000
RRULE:FREQ=YEARLY;BYMONTH=3;BYDAY=2SU
END:DAYLIGHT
BEGIN:STANDARD
TZOFFSETFROM:-0700
TZOFFSETTO:-0800
TZNAME:PST
DTSTART:19701101T020000
RRULE:FREQ=YEARLY;BYMONTH=11;BYDAY=1SU
END:STANDARD
END:VTIMEZONE
BEGIN:VEVENT
UID:1688216:Event:445398
DTSTAMP:20260421T044939Z
SUMMARY:TNT - Charlotte
DESCRIPTION:Thursday Night Throwdown, Charlotte. Brought to you by the
  Charlotte Coffee Community. Returning to The Coffee Garden for May. O
 nce again, we'll be doing the \"Rookie of the Month\" for the best of 
 the first time pourers. Oughtta be fun.\n\nFor more information visit 
 https://www.baristaexchange.com/events/tnt-charlotte-2
DTSTART;TZID=America/Los_Angeles:20090514T180000
DTEND;TZID=America/Los_Angeles:20090514T200000
CATEGORIES:throwdown
LOCATION:The Coffee Garden
WEBSITE:http://www.CharlotteCoffeeCommunity.wordpress.com
URL:http://www.CharlotteCoffeeCommunity.wordpress.com
CONTACT:
ORGANIZER:The Charlotte Coffee Community
ATTACH;FMTTYPE="image/jpeg":http://storage.ning.com/topology/rest/1.0/
 file/get/91906763?profile=original
ATTENDEE;ROLE=REQ-PARTICIPANT;PARTSTAT=ACCEPTED;RSVP=TRUE;CN=Brady:htt
 ps://www.baristaexchange.com/profile/Brady
END:VEVENT
END:VCALENDAR
