BEGIN:VCALENDAR
PRODID:NingEventWidget-v1
VERSION:2.0
METHOD:PUBLISH
BEGIN:VTIMEZONE
TZID:America/Los_Angeles
X-LIC-LOCATION:America/Los_Angeles
BEGIN:DAYLIGHT
TZOFFSETFROM:-0800
TZOFFSETTO:-0700
TZNAME:PDT
DTSTART:19700308T020000
RRULE:FREQ=YEARLY;BYMONTH=3;BYDAY=2SU
END:DAYLIGHT
BEGIN:STANDARD
TZOFFSETFROM:-0700
TZOFFSETTO:-0800
TZNAME:PST
DTSTART:19701101T020000
RRULE:FREQ=YEARLY;BYMONTH=11;BYDAY=1SU
END:STANDARD
END:VTIMEZONE
BEGIN:VEVENT
UID:1688216:Event:422943
DTSTAMP:20260421T233456Z
SUMMARY:TNT Charlotte
DESCRIPTION:Here's a chance to polish up the skillz before ATL. New th
 is month: a Rookie bracket, with a prize for the best of the first-tim
 ers.\n\nFor more information visit https://www.baristaexchange.com/eve
 nts/tnt-charlotte-1
DTSTART;TZID=America/Los_Angeles:20090409T180000
DTEND;TZID=America/Los_Angeles:20090409T200000
CATEGORIES:throwdown
LOCATION:CoffeeWorks Arboretum
WEBSITE:http://www.CharlotteCoffeeCommunity.Wordpress.com
URL:http://www.CharlotteCoffeeCommunity.Wordpress.com
CONTACT:
ORGANIZER:The Charlotte Coffee Community
ATTACH;FMTTYPE="image/jpeg":http://storage.ning.com/topology/rest/1.0/
 file/get/91906340?profile=original
ATTENDEE;ROLE=REQ-PARTICIPANT;PARTSTAT=ACCEPTED;RSVP=TRUE;CN=Brady:htt
 ps://www.baristaexchange.com/profile/Brady
END:VEVENT
END:VCALENDAR
