BEGIN:VCALENDAR
PRODID:NingEventWidget-v1
VERSION:2.0
METHOD:PUBLISH
BEGIN:VTIMEZONE
TZID:America/Los_Angeles
X-LIC-LOCATION:America/Los_Angeles
BEGIN:DAYLIGHT
TZOFFSETFROM:-0800
TZOFFSETTO:-0700
TZNAME:PDT
DTSTART:19700308T020000
RRULE:FREQ=YEARLY;BYMONTH=3;BYDAY=2SU
END:DAYLIGHT
BEGIN:STANDARD
TZOFFSETFROM:-0700
TZOFFSETTO:-0800
TZNAME:PST
DTSTART:19701101T020000
RRULE:FREQ=YEARLY;BYMONTH=11;BYDAY=1SU
END:STANDARD
END:VTIMEZONE
BEGIN:VEVENT
UID:1688216:Event:422555
DTSTAMP:20260421T184120Z
SUMMARY:Thursday Night Throwdown
DESCRIPTION:PLEASE READ THE NEW FORMAT RULES!\nThe people have spoken.
  There will be a TNT during WBC in Atlanta. Thursday the 16th will be 
 the date. Still working on specifics, but there are a few things that 
 i do know…\n\n1. The format will be a Capp-Off. An officiator will p
 ull a shot and split it between two capp mugs. Two competitors will st
 ream and pour simultaneously on opposite ends of the machine. Judges w
 ill quickly decide a winner.\n2. Their will be a bracket system quite 
 similar to the NCAA basketball tournament. Match-ups will be chosen at
  random. Winner of first round goes to second round, etc.\n3. Sign-up 
 MAY be in advance. Not sure yet…\n4. The bracket structure will allo
 w for maximum amount of competitors, yet simultaneously not last 5 hou
 rs. The match-ups will be rapid fire.\n\nFor more information visit ht
 tps://www.baristaexchange.com/events/thursday-night-throwdown
DTSTART;TZID=America/Los_Angeles:20090416T190000
DTEND;TZID=America/Los_Angeles:20090416T230000
CATEGORIES:barista, gathering
LOCATION:Octane Coffee Bar and Lounge
WEBSITE:http://thursdaynightthrowdown.wordpress.com/
URL:http://thursdaynightthrowdown.wordpress.com/
CONTACT:404.815.9886
ORGANIZER:Ben Helfen
ATTACH;FMTTYPE="image/jpeg":http://storage.ning.com/topology/rest/1.0/
 file/get/91906327?profile=original
ATTENDEE;ROLE=REQ-PARTICIPANT;PARTSTAT=ACCEPTED;RSVP=TRUE;CN=Brady:htt
 ps://www.baristaexchange.com/profile/Brady
ATTENDEE;ROLE=REQ-PARTICIPANT;PARTSTAT=ACCEPTED;RSVP=TRUE;CN=Erie:http
 s://www.baristaexchange.com/profile/Erie
ATTENDEE;ROLE=REQ-PARTICIPANT;PARTSTAT=ACCEPTED;RSVP=TRUE;CN="Scott Br
 uggman":https://www.baristaexchange.com/profile/ScottBruggman
ATTENDEE;ROLE=REQ-PARTICIPANT;PARTSTAT=ACCEPTED;RSVP=TRUE;CN="Paul Yat
 es":https://www.baristaexchange.com/profile/PaulYates
ATTENDEE;ROLE=REQ-PARTICIPANT;PARTSTAT=ACCEPTED;RSVP=TRUE;CN="Ginger G
 erhart":https://www.baristaexchange.com/profile/GingerGerhart
ATTENDEE;ROLE=REQ-PARTICIPANT;PARTSTAT=ACCEPTED;RSVP=TRUE;CN="Matt Mil
 letto":https://www.baristaexchange.com/profile/mattmilletto
ATTENDEE;ROLE=REQ-PARTICIPANT;PARTSTAT=ACCEPTED;RSVP=TRUE;CN="Rob Tutt
 le":https://www.baristaexchange.com/profile/RobTuttle
END:VEVENT
END:VCALENDAR
