BEGIN:VCALENDAR
PRODID:NingEventWidget-v1
VERSION:2.0
METHOD:PUBLISH
BEGIN:VTIMEZONE
TZID:America/Los_Angeles
X-LIC-LOCATION:America/Los_Angeles
BEGIN:DAYLIGHT
TZOFFSETFROM:-0800
TZOFFSETTO:-0700
TZNAME:PDT
DTSTART:19700308T020000
RRULE:FREQ=YEARLY;BYMONTH=3;BYDAY=2SU
END:DAYLIGHT
BEGIN:STANDARD
TZOFFSETFROM:-0700
TZOFFSETTO:-0800
TZNAME:PST
DTSTART:19701101T020000
RRULE:FREQ=YEARLY;BYMONTH=11;BYDAY=1SU
END:STANDARD
END:VTIMEZONE
BEGIN:VEVENT
UID:1688216:Event:893674
DTSTAMP:20260425T181010Z
SUMMARY:Thursday Night Throwdown
DESCRIPTION:New month, new venue. Austin's August throwdown will be ho
 sted by Thunderbird Coffee on Koenig Lane. You know the drill. Pay up,
  throw down, walk away with some cash. Or just show up and chill with 
 some pretty rad people.\n\nThunderbird will have cheap beer flowing, s
 ome tasty om-noms to chow, and a few surprise prizes for the winner, r
 unner up, and one lucky barista in the crowd.\n\nLike Uma says - be th
 ere or be (draw a square with your index fingers)\n\nFor more informat
 ion visit https://www.baristaexchange.com/events/thursday-night-throwd
 own-1
DTSTART;TZID=America/Los_Angeles:20100805T200000
DTEND;TZID=America/Los_Angeles:20100805T220000
CATEGORIES:"latte art throwdown", tnt
LOCATION:Thunderbird Coffee
WEBSITE:
URL:
CONTACT:512-420-8660
ORGANIZER:Morgan Moody, Lorenzo Perkins
ATTACH;FMTTYPE="image/jpeg":
ATTENDEE;ROLE=REQ-PARTICIPANT;PARTSTAT=ACCEPTED;RSVP=TRUE;CN="Jonathan
  Aldrich":https://www.baristaexchange.com/profile/JonathanAldrich
ATTENDEE;ROLE=REQ-PARTICIPANT;PARTSTAT=ACCEPTED;RSVP=TRUE;CN="Lorenzo 
 Perkins":https://www.baristaexchange.com/profile/Lorenzo
END:VEVENT
END:VCALENDAR
