BEGIN:VCALENDAR
PRODID:NingEventWidget-v1
VERSION:2.0
METHOD:PUBLISH
BEGIN:VTIMEZONE
TZID:America/Los_Angeles
X-LIC-LOCATION:America/Los_Angeles
BEGIN:DAYLIGHT
TZOFFSETFROM:-0800
TZOFFSETTO:-0700
TZNAME:PDT
DTSTART:19700308T020000
RRULE:FREQ=YEARLY;BYMONTH=3;BYDAY=2SU
END:DAYLIGHT
BEGIN:STANDARD
TZOFFSETFROM:-0700
TZOFFSETTO:-0800
TZNAME:PST
DTSTART:19701101T020000
RRULE:FREQ=YEARLY;BYMONTH=11;BYDAY=1SU
END:STANDARD
END:VTIMEZONE
BEGIN:VEVENT
UID:1688216:Event:499727
DTSTAMP:20260421T161800Z
SUMMARY:Thursday Night Live--Coffee Art
DESCRIPTION:What: Freestyle Coffee Jam\nWhere: Rowster Coffee Lab 910 
 Cherry, (inside the Richard App Gallery, across the street from Corez 
 Wine Bar and next door to the Greenwell Gastro Pub).\nWhen: Every Thur
 sday, 6-? all Summer\nWhy: To celebrate all facets of coffee (barista 
 arts, roasting, cafe culture, etc) and promote dialogue between profes
 sionals and coffee geeks.\n\nBack story: Every Thursday the Richard Ap
 p Gallery is providing local artists with a forum to paint, draw, play
  music, with local restaurant patrons browsing and hanging around to c
 heck out the action. Whether its rosettas or roasting, we believe coff
 ee is art as well, and want to invite anyone with an interest in coffe
 e from roasting, cupping, brewing, latte art, culture, etc. to come an
 d get artistic at the Rowster Coffee Lab.\n\nSo . . . bring your coffe
 e, tampers, gear, stickers, anything you want, along with your skills,
  your creativity and your passion.\n\nWe'll see you there.\n\nFor more
  information visit https://www.baristaexchange.com/events/thursday-nig
 ht-livecoffee-art
DTSTART;TZID=America/Los_Angeles:20090604T180000
DTEND;TZID=America/Los_Angeles:20090604T210000
CATEGORIES:weekly, exploration, of, the, art, coffee
LOCATION:Rowster Coffee Lab (at the Richard App Gallery)
WEBSITE:http://www.rowstercoffee.com
URL:http://www.rowstercoffee.com
CONTACT:616-780-7777
ORGANIZER;CN="Kurt Stauffer":https://www.baristaexchange.com/profile/K
 urtStauffer
ATTACH;FMTTYPE="image/jpeg":
ATTENDEE;ROLE=REQ-PARTICIPANT;PARTSTAT=ACCEPTED;RSVP=TRUE;CN="Kurt Sta
 uffer":https://www.baristaexchange.com/profile/KurtStauffer
END:VEVENT
END:VCALENDAR
