BEGIN:VCALENDAR
PRODID:NingEventWidget-v1
VERSION:2.0
METHOD:PUBLISH
BEGIN:VTIMEZONE
TZID:America/Los_Angeles
X-LIC-LOCATION:America/Los_Angeles
BEGIN:DAYLIGHT
TZOFFSETFROM:-0800
TZOFFSETTO:-0700
TZNAME:PDT
DTSTART:19700308T020000
RRULE:FREQ=YEARLY;BYMONTH=3;BYDAY=2SU
END:DAYLIGHT
BEGIN:STANDARD
TZOFFSETFROM:-0700
TZOFFSETTO:-0800
TZNAME:PST
DTSTART:19701101T020000
RRULE:FREQ=YEARLY;BYMONTH=11;BYDAY=1SU
END:STANDARD
END:VTIMEZONE
BEGIN:VEVENT
UID:1688216:Event:362163
DTSTAMP:20260422T075351Z
SUMMARY:Throwdown in Appletown
DESCRIPTION:North Central Washingtons' First Annual Barista Jam and La
 tte Art Throwdown! After a successful jam at Leavenworth's Red Bird Ka
 ffee Haus, It's time to for a Throw Down in Appletown! Wenatchee, Wa's
  premier coffee house and roaster will be hosting a jam featuring cupp
 ing, gear discussions, a latte art contest and live music form Poor fo
 lks Live Well. The event is free, $5 to participate in the latte art c
 ontest. All are welcome!\n\nFor more information visit https://www.bar
 istaexchange.com/events/throwdown-in-appletown
DTSTART;TZID=America/Los_Angeles:20090323T170000
DTEND;TZID=America/Los_Angeles:20090323T210000
CATEGORIES:barista, jam
LOCATION:Caffe Mela
WEBSITE:http://www.caffemela.com
URL:http://www.caffemela.com
CONTACT:509-888-o374
ORGANIZER;CN="Darren Reynolds":https://www.baristaexchange.com/profile
 /DarrenReynolds
ATTACH;FMTTYPE="image/jpeg":http://storage.ning.com/topology/rest/1.0/
 file/get/91905781?profile=original
ATTENDEE;ROLE=REQ-PARTICIPANT;PARTSTAT=ACCEPTED;RSVP=TRUE;CN="Michelle
  Week":https://www.baristaexchange.com/profile/MichelleWeek
ATTENDEE;ROLE=REQ-PARTICIPANT;PARTSTAT=ACCEPTED;RSVP=TRUE;CN="Darren R
 eynolds":https://www.baristaexchange.com/profile/DarrenReynolds
ATTENDEE;ROLE=REQ-PARTICIPANT;PARTSTAT=TENTATIVE;RSVP=TRUE;CN="Dave Wh
 ite":https://www.baristaexchange.com/profile/DaveWhite
END:VEVENT
END:VCALENDAR
