BEGIN:VCALENDAR
PRODID:NingEventWidget-v1
VERSION:2.0
METHOD:PUBLISH
BEGIN:VTIMEZONE
TZID:America/Los_Angeles
X-LIC-LOCATION:America/Los_Angeles
BEGIN:DAYLIGHT
TZOFFSETFROM:-0800
TZOFFSETTO:-0700
TZNAME:PDT
DTSTART:19700308T020000
RRULE:FREQ=YEARLY;BYMONTH=3;BYDAY=2SU
END:DAYLIGHT
BEGIN:STANDARD
TZOFFSETFROM:-0700
TZOFFSETTO:-0800
TZNAME:PST
DTSTART:19701101T020000
RRULE:FREQ=YEARLY;BYMONTH=11;BYDAY=1SU
END:STANDARD
END:VTIMEZONE
BEGIN:VEVENT
UID:1688216:Event:844623
DTSTAMP:20260424T134559Z
SUMMARY:Throwdown At Element Coffee Company
DESCRIPTION:Join Element Coffee Company for Throwdown, benefiting Nort
 h Fulton Community Charities. The event begins at 4pm on May 21st with
  live music throughout the evening and an alternative brew workshop. R
 egistration for the latte art competition begins at 7pm, $10 per compe
 titor, and the competition starts at 8pm.The cash prize is at least $2
 00. All competition entry fees, t-shirt sales, and vendor donations wi
 ll be given to North Fulton Community Charities to help families in ne
 ed.\n\nFor more information visit https://www.baristaexchange.com/even
 ts/throwdown-at-element-coffee
DTSTART;TZID=America/Los_Angeles:20100521T160000
DTEND;TZID=America/Los_Angeles:20100521T220000
CATEGORIES:latte, art, competition, for, charity
LOCATION:Element Coffee Company
WEBSITE:http://www.elementcoffeeco.com
URL:http://www.elementcoffeeco.com
CONTACT:770-752-7188
ORGANIZER;CN="Jacklyn D":https://www.baristaexchange.com/profile/Jackl
 ynD
ATTACH;FMTTYPE="image/jpeg":http://storage.ning.com/topology/rest/1.0/
 file/get/91917591?profile=original
ATTENDEE;ROLE=REQ-PARTICIPANT;PARTSTAT=ACCEPTED;RSVP=TRUE;CN="Jacklyn 
 D":https://www.baristaexchange.com/profile/JacklynD
END:VEVENT
END:VCALENDAR
