BEGIN:VCALENDAR
PRODID:NingEventWidget-v1
VERSION:2.0
METHOD:PUBLISH
BEGIN:VTIMEZONE
TZID:America/Los_Angeles
X-LIC-LOCATION:America/Los_Angeles
BEGIN:DAYLIGHT
TZOFFSETFROM:-0800
TZOFFSETTO:-0700
TZNAME:PDT
DTSTART:19700308T020000
RRULE:FREQ=YEARLY;BYMONTH=3;BYDAY=2SU
END:DAYLIGHT
BEGIN:STANDARD
TZOFFSETFROM:-0700
TZOFFSETTO:-0800
TZNAME:PST
DTSTART:19701101T020000
RRULE:FREQ=YEARLY;BYMONTH=11;BYDAY=1SU
END:STANDARD
END:VTIMEZONE
BEGIN:VEVENT
UID:1688216:Event:1013464
DTSTAMP:20260421T181910Z
SUMMARY:The Last Stand Sunday Showcase
DESCRIPTION:On Sunday Nights @ The Last Stand Coffee Co. We are holdin
 g an acoustic showcase that will involve several local and national ac
 oustic artists displaying talent in poetry, folk, blues, and rock & ro
 ll.\n\nFor more information visit https://www.baristaexchange.com/even
 ts/the-last-stand-sunday-showcase
DTSTART;TZID=America/Los_Angeles:20110130T190000
DTEND;TZID=America/Los_Angeles:20110130T220000
CATEGORIES:all, audience
LOCATION:The Last Stand Coffee Co.
WEBSITE:
URL:
CONTACT:5412065499
ORGANIZER;CN="Joshua Henrikson":https://www.baristaexchange.com/profil
 e/JoshuaHenrikson
ATTACH;FMTTYPE="image/jpeg":http://storage.ning.com/topology/rest/1.0/
 file/get/91921076?profile=original
ATTENDEE;ROLE=REQ-PARTICIPANT;PARTSTAT=ACCEPTED;RSVP=TRUE;CN="Joshua H
 enrikson":https://www.baristaexchange.com/profile/JoshuaHenrikson
END:VEVENT
END:VCALENDAR
