BEGIN:VCALENDAR
PRODID:NingEventWidget-v1
VERSION:2.0
METHOD:PUBLISH
BEGIN:VTIMEZONE
TZID:America/Los_Angeles
X-LIC-LOCATION:America/Los_Angeles
BEGIN:DAYLIGHT
TZOFFSETFROM:-0800
TZOFFSETTO:-0700
TZNAME:PDT
DTSTART:19700308T020000
RRULE:FREQ=YEARLY;BYMONTH=3;BYDAY=2SU
END:DAYLIGHT
BEGIN:STANDARD
TZOFFSETFROM:-0700
TZOFFSETTO:-0800
TZNAME:PST
DTSTART:19701101T020000
RRULE:FREQ=YEARLY;BYMONTH=11;BYDAY=1SU
END:STANDARD
END:VTIMEZONE
BEGIN:VEVENT
UID:1688216:Event:1037336
DTSTAMP:20260421T045126Z
SUMMARY:the Last Stand Coffee Co.
DESCRIPTION:Music Tonight @ the Stand\n\nFor more information visit ht
 tps://www.baristaexchange.com/events/the-last-stand-coffee-co
DTSTART;TZID=America/Los_Angeles:20110220T190000
DTEND;TZID=America/Los_Angeles:20110220T230000
CATEGORIES:open, mike
LOCATION:298 Blair Blvd
WEBSITE:
URL:
CONTACT:541-206-5499
ORGANIZER;CN="Joshua Henrikson":https://www.baristaexchange.com/profil
 e/JoshuaHenrikson
ATTACH;FMTTYPE="image/jpeg":http://storage.ning.com/topology/rest/1.0/
 file/get/91921238?profile=original
ATTENDEE;ROLE=REQ-PARTICIPANT;PARTSTAT=ACCEPTED;RSVP=TRUE;CN="Joshua H
 enrikson":https://www.baristaexchange.com/profile/JoshuaHenrikson
END:VEVENT
END:VCALENDAR
