BEGIN:VCALENDAR
PRODID:NingEventWidget-v1
VERSION:2.0
METHOD:PUBLISH
BEGIN:VTIMEZONE
TZID:America/Los_Angeles
X-LIC-LOCATION:America/Los_Angeles
BEGIN:DAYLIGHT
TZOFFSETFROM:-0800
TZOFFSETTO:-0700
TZNAME:PDT
DTSTART:19700308T020000
RRULE:FREQ=YEARLY;BYMONTH=3;BYDAY=2SU
END:DAYLIGHT
BEGIN:STANDARD
TZOFFSETFROM:-0700
TZOFFSETTO:-0800
TZNAME:PST
DTSTART:19701101T020000
RRULE:FREQ=YEARLY;BYMONTH=11;BYDAY=1SU
END:STANDARD
END:VTIMEZONE
BEGIN:VEVENT
UID:1688216:Event:572828
DTSTAMP:20260422T081750Z
SUMMARY:The Hub Grand Opening!
DESCRIPTION:Block party and our grand opening!!!!\n\nBeer, BBQ, music,
  art, and of course coffee! Come and help raise some money for local n
 on-profits and kick off the opening of The Hub!\n\nLatte Art Throwdown
 ! $5 a head. And of course, anyone and everyone is welcome! Walk, driv
 e, ride your bike, we'd love to have as many people as possible from t
 he West Coast coffee community come and make it a party!\n\nSaturday, 
 August 15th, 11-5!\n@ The Hub, 32 Cheney St.\nReno, NV 89501\n\nFor mo
 re information visit https://www.baristaexchange.com/events/the-hub-gr
 and-opening
DTSTART;TZID=America/Los_Angeles:20090815T110000
DTEND;TZID=America/Los_Angeles:20090815T170000
CATEGORIES:grand, opening, benefit, "party!"
LOCATION:The Hub Coffee Co.
WEBSITE:http://www.facebook.com/event.php?eid=111727315381
URL:http://www.facebook.com/event.php?eid=111727315381
CONTACT:775-323-3482
ORGANIZER:The Hub Coffee Co. / Joey Trujillo / Mark Trujillo
ATTACH;FMTTYPE="image/jpeg":http://storage.ning.com/topology/rest/1.0/
 file/get/91909513?profile=original
ATTENDEE;ROLE=REQ-PARTICIPANT;PARTSTAT=ACCEPTED;RSVP=TRUE;CN="Joey Tru
 jillo":https://www.baristaexchange.com/profile/joeytri
END:VEVENT
END:VCALENDAR
