BEGIN:VCALENDAR
PRODID:NingEventWidget-v1
VERSION:2.0
METHOD:PUBLISH
BEGIN:VTIMEZONE
TZID:America/Los_Angeles
X-LIC-LOCATION:America/Los_Angeles
BEGIN:DAYLIGHT
TZOFFSETFROM:-0800
TZOFFSETTO:-0700
TZNAME:PDT
DTSTART:19700308T020000
RRULE:FREQ=YEARLY;BYMONTH=3;BYDAY=2SU
END:DAYLIGHT
BEGIN:STANDARD
TZOFFSETFROM:-0700
TZOFFSETTO:-0800
TZNAME:PST
DTSTART:19701101T020000
RRULE:FREQ=YEARLY;BYMONTH=11;BYDAY=1SU
END:STANDARD
END:VTIMEZONE
BEGIN:VEVENT
UID:1688216:Event:306939
DTSTAMP:20260420T013647Z
SUMMARY:The Columbus Coffee February Meetup
DESCRIPTION:We'll try something new at each tasting. Luck Bros Coffee 
 House has developed partnerships with many of the countries best coffe
 e roasters. These relationships allow us to bring you unique and rare 
 coffees. Coffee which has never been available to Columbus, until now.
 \n\nLike all rare and delicious things, these coffees are also not che
 ap. Therefore I do need to charge a small fee to cover expenses. This 
 fee is also good toward the purchase of a pound of beans.\n\nAgenda:\n
 I. Introduction of coffee to be tasted\nOrigin, varietal, profile.\nII
 . Discuss and select brewing technique\nIII. Grind, brew, sip, enjoy, 
 discuss.\n\nCome early for a good seat!\n\nFor more information visit 
 https://www.baristaexchange.com/events/the-columbus-coffee-february
DTSTART;TZID=America/Los_Angeles:20090208T120000
DTEND;TZID=America/Los_Angeles:20090208T130000
CATEGORIES:coffee, tasting
LOCATION:Luck Bros Coffee House
WEBSITE:http://luckbroscoffeehouse.com
URL:http://luckbroscoffeehouse.com
CONTACT:614 299-9330
ORGANIZER;CN=Andy:https://www.baristaexchange.com/profile/Andy78
ATTACH;FMTTYPE="image/jpeg":http://storage.ning.com/topology/rest/1.0/
 file/get/91904860?profile=original
ATTENDEE;ROLE=REQ-PARTICIPANT;PARTSTAT=ACCEPTED;RSVP=TRUE;CN=Andy:http
 s://www.baristaexchange.com/profile/Andy78
END:VEVENT
END:VCALENDAR
