BEGIN:VCALENDAR
PRODID:NingEventWidget-v1
VERSION:2.0
METHOD:PUBLISH
BEGIN:VTIMEZONE
TZID:America/Los_Angeles
X-LIC-LOCATION:America/Los_Angeles
BEGIN:DAYLIGHT
TZOFFSETFROM:-0800
TZOFFSETTO:-0700
TZNAME:PDT
DTSTART:19700308T020000
RRULE:FREQ=YEARLY;BYMONTH=3;BYDAY=2SU
END:DAYLIGHT
BEGIN:STANDARD
TZOFFSETFROM:-0700
TZOFFSETTO:-0800
TZNAME:PST
DTSTART:19701101T020000
RRULE:FREQ=YEARLY;BYMONTH=11;BYDAY=1SU
END:STANDARD
END:VTIMEZONE
BEGIN:VEVENT
UID:1688216:Event:471394
DTSTAMP:20260421T145249Z
SUMMARY:Texans Taste of the NFL
DESCRIPTION:\nPurpose: The Texans Taste of the NFL will be held to rai
 se funds and increase awareness for hunger relief in Houston and the s
 urrounding areas. The Houston Food Bank will receive 51% of the procee
 ds from the event, while 49% will benefit the Houston Texans Foundatio
 n.\nProgram: An evening of food, football and fun at Reliant Stadium w
 ith local chefs and restaurants, current and alumni Texans players and
  more. Guests stroll from booth to booth, tasting a variety of culinar
 y creations with ample seating provided. VIP ticket-holders will have 
 the privilege of arriving early for a pre-event reception with Houston
  Texans players (tentative) in the locker room.\n\nAttendance: 600 tic
 kets available, 100 VIP tickets and 500 General Admission. General Adm
 ission tickets will be $150 each and VIP tickets will be $250 each. A 
 certain number of tickets have been set aside for sponsors, media and 
 other special guests.\n\nRestaurants: 30 local restaurants and chefs t
 o participate, providing a sampling of a special food item for guests.
  The restaurants are encouraged to promote the event on their website 
 and assist with overall event promotion.\n\nSponsors: There are five t
 iered Levels of Sponsorship for the event, with one Presenting Sponsor
  ($50,000) and one Platinum Sponsor ($25,000). Sponsors will receive a
  variety of benefits including: recognition in promotional materials a
 nd press releases, event signage and tables and recognition on the Hou
 ston Food Bank website and newsletter.\n\nFor more information visit h
 ttps://www.baristaexchange.com/events/texans-taste-of-the-nfl
DTSTART;TZID=America/Los_Angeles:20091025T180000
DTEND;TZID=America/Los_Angeles:20091025T220000
CATEGORIES:fund, raiser
LOCATION:Reliant Stadium
WEBSITE:http://www.houstonfoodbank.org
URL:http://www.houstonfoodbank.org
CONTACT:
ORGANIZER:Hoston Food Bank
ATTACH;FMTTYPE="image/jpeg":
ATTENDEE;ROLE=REQ-PARTICIPANT;PARTSTAT=ACCEPTED;RSVP=TRUE;CN="David Da
 venport":https://www.baristaexchange.com/profile/DavidDavenport
END:VEVENT
END:VCALENDAR
