BEGIN:VCALENDAR
PRODID:NingEventWidget-v1
VERSION:2.0
METHOD:PUBLISH
BEGIN:VTIMEZONE
TZID:America/Los_Angeles
X-LIC-LOCATION:America/Los_Angeles
BEGIN:DAYLIGHT
TZOFFSETFROM:-0800
TZOFFSETTO:-0700
TZNAME:PDT
DTSTART:19700308T020000
RRULE:FREQ=YEARLY;BYMONTH=3;BYDAY=2SU
END:DAYLIGHT
BEGIN:STANDARD
TZOFFSETFROM:-0700
TZOFFSETTO:-0800
TZNAME:PST
DTSTART:19701101T020000
RRULE:FREQ=YEARLY;BYMONTH=11;BYDAY=1SU
END:STANDARD
END:VTIMEZONE
BEGIN:VEVENT
UID:1688216:Event:438323
DTSTAMP:20260421T044957Z
SUMMARY:SUNDAY NIGHT THROWDOWN AT PRESS!!!!!
DESCRIPTION:Join us for our 2nd Latte Art Throw Down at Press! We'll b
 e doing an easy format to ensure were not there all night. Guest are w
 elcome and we have beer and wine to soothe the palet!!! Looking forwar
 d to seeing the best!\n\nFor more information visit https://www.barist
 aexchange.com/events/sunday-night-throwdown-at
DTSTART;TZID=America/Los_Angeles:20090503T183000
DTEND;TZID=America/Los_Angeles:20090503T213000
CATEGORIES:latte, art, throw, down
LOCATION:Press Coffee Food Wine- City North 56th St and Deer Valley Rd
WEBSITE:
URL:
CONTACT:480-419-6221
ORGANIZER:Steve Kraus and Arizona Coffee.COM
ATTACH;FMTTYPE="image/jpeg":http://storage.ning.com/topology/rest/1.0/
 file/get/91906869?profile=original
ATTENDEE;ROLE=REQ-PARTICIPANT;PARTSTAT=ACCEPTED;RSVP=TRUE;CN=Carrie:ht
 tps://www.baristaexchange.com/profile/Carrie
ATTENDEE;ROLE=REQ-PARTICIPANT;PARTSTAT=ACCEPTED;RSVP=TRUE;CN=Steve:htt
 ps://www.baristaexchange.com/profile/Stephen89
END:VEVENT
END:VCALENDAR
