BEGIN:VCALENDAR
PRODID:NingEventWidget-v1
VERSION:2.0
METHOD:PUBLISH
BEGIN:VTIMEZONE
TZID:America/Los_Angeles
X-LIC-LOCATION:America/Los_Angeles
BEGIN:DAYLIGHT
TZOFFSETFROM:-0800
TZOFFSETTO:-0700
TZNAME:PDT
DTSTART:19700308T020000
RRULE:FREQ=YEARLY;BYMONTH=3;BYDAY=2SU
END:DAYLIGHT
BEGIN:STANDARD
TZOFFSETFROM:-0700
TZOFFSETTO:-0800
TZNAME:PST
DTSTART:19701101T020000
RRULE:FREQ=YEARLY;BYMONTH=11;BYDAY=1SU
END:STANDARD
END:VTIMEZONE
BEGIN:VEVENT
UID:1688216:Event:633105
DTSTAMP:20260421T231526Z
SUMMARY:Strong Coffee: Film on Cafe Femenino
DESCRIPTION:The Columbus International Film + Video Festival presents 
 \"Strong Coffee\", a film that tells the story of Café Femenino—a r
 evolutionary idea that is helping people in need all over the world. C
 afé Femenino beans are the first coffee beans grown entirely by women
  farmers. October 20th, 7pm @ Studio 35. $5 at the door.\n\nFor more i
 nformation visit https://www.baristaexchange.com/events/strong-coffee-
 film-on-cafe
DTSTART;TZID=America/Los_Angeles:20091020T190000
DTEND;TZID=America/Los_Angeles:20091020T220000
CATEGORIES:movie
LOCATION:Studio 35
WEBSITE:http://studio35.com
URL:http://studio35.com
CONTACT:
ORGANIZER:Stauf's Coffee & Columbus International Film + Video Festiva
 l
ATTACH;FMTTYPE="image/jpeg":
ATTENDEE;ROLE=REQ-PARTICIPANT;PARTSTAT=ACCEPTED;RSVP=TRUE;CN="Damion A
 ":https://www.baristaexchange.com/profile/DamionA
END:VEVENT
END:VCALENDAR
