BEGIN:VCALENDAR
PRODID:NingEventWidget-v1
VERSION:2.0
METHOD:PUBLISH
BEGIN:VTIMEZONE
TZID:America/Los_Angeles
X-LIC-LOCATION:America/Los_Angeles
BEGIN:DAYLIGHT
TZOFFSETFROM:-0800
TZOFFSETTO:-0700
TZNAME:PDT
DTSTART:19700308T020000
RRULE:FREQ=YEARLY;BYMONTH=3;BYDAY=2SU
END:DAYLIGHT
BEGIN:STANDARD
TZOFFSETFROM:-0700
TZOFFSETTO:-0800
TZNAME:PST
DTSTART:19701101T020000
RRULE:FREQ=YEARLY;BYMONTH=11;BYDAY=1SU
END:STANDARD
END:VTIMEZONE
BEGIN:VEVENT
UID:1688216:Event:946895
DTSTAMP:20260423T033201Z
SUMMARY:Stone House Coffee & Tea Presents Our 2nd Annual Pumpkin Carvi
 ng Party
DESCRIPTION:Join Stone House and Maybury Farm as we celebrate Hallowee
 n and the autumn season! Stone House will be hosting a Pumpkin Carving
  Party on Saturday, October 23rd, starting at 12pm. We will be featuri
 ng pumpkins from the nearby Maybury Farm, as well as roasted pumpkin s
 eeds, cider and donuts. All ages welcome! Stone House will provide the
  pumpkins, tools, AND clean-up crew!\n\nThe cost is $7 for a glass of 
 apple cider, a donut, and a pumpkin! We will also be accepting donatio
 ns for the long-term preservation of Maybury Farm. Please RSVP by call
 ing 248-449-2669.\n\nFor more information visit https://www.baristaexc
 hange.com/events/stone-house-coffee-tea
DTSTART;TZID=America/Los_Angeles:20101023T120000
DTEND;TZID=America/Los_Angeles:20101023T150000
CATEGORIES:halloween, party
LOCATION:Stone House Coffee & Tea
WEBSITE:http://maps.google.com/maps/place?cid=16407606690768052251&q=S
 tone+House+Coffee+%26+Tea+Co,+16923+Ridge+Road,+Northville,+MI+48168-9
 557&hl=en&ved=0CBIQ2QYwAA&ei=wDa8TPiUOojMNb3vmYIG&sll=42.405875,-83.53
 0478&sspn=0.006295,0.006295&ie=UTF8&ll=42.410704,-83.540103&spn=0,0&z=
 16&iwloc=A
URL:http://maps.google.com/maps/place?cid=16407606690768052251&q=Stone
 +House+Coffee+%26+Tea+Co,+16923+Ridge+Road,+Northville,+MI+48168-9557&
 hl=en&ved=0CBIQ2QYwAA&ei=wDa8TPiUOojMNb3vmYIG&sll=42.405875,-83.530478
 &sspn=0.006295,0.006295&ie=UTF8&ll=42.410704,-83.540103&spn=0,0&z=16&i
 wloc=A
CONTACT:248-449-2669
ORGANIZER;CN="Chelsea Liddy":https://www.baristaexchange.com/profile/C
 helseaLiddy
ATTACH;FMTTYPE="image/jpeg":http://storage.ning.com/topology/rest/1.0/
 file/get/91919851?profile=original
ATTENDEE;ROLE=REQ-PARTICIPANT;PARTSTAT=ACCEPTED;RSVP=TRUE;CN="Chelsea 
 Liddy":https://www.baristaexchange.com/profile/ChelseaLiddy
END:VEVENT
END:VCALENDAR
