BEGIN:VCALENDAR
PRODID:NingEventWidget-v1
VERSION:2.0
METHOD:PUBLISH
BEGIN:VTIMEZONE
TZID:America/Los_Angeles
X-LIC-LOCATION:America/Los_Angeles
BEGIN:DAYLIGHT
TZOFFSETFROM:-0800
TZOFFSETTO:-0700
TZNAME:PDT
DTSTART:19700308T020000
RRULE:FREQ=YEARLY;BYMONTH=3;BYDAY=2SU
END:DAYLIGHT
BEGIN:STANDARD
TZOFFSETFROM:-0700
TZOFFSETTO:-0800
TZNAME:PST
DTSTART:19701101T020000
RRULE:FREQ=YEARLY;BYMONTH=11;BYDAY=1SU
END:STANDARD
END:VTIMEZONE
BEGIN:VEVENT
UID:1688216:Event:687885
DTSTAMP:20260421T231343Z
SUMMARY:Stephen Vick - coffee and adventure in western Tanzania presen
 tation
DESCRIPTION:For the past year, Stephen Vick has been working with a te
 am from Sustainable Harvest, in western Tanzania, on a long-term devel
 opment project improving the quality of the coffee produced by the Kan
 yovu Cooperative near Kigoma, Tanzania.Stephens particular work has fo
 cused on implementing quality contol systems for the cooperative, whic
 h represents around 5000 farmers Daily lot separation at 18 different 
 washing stations resulted in somewhere around 800 lots for Stephento c
 up. In conjuntion with the development process, Stephen worked closely
  with two Tanzanians from the cooperative, training and empowering the
 ir eyes and senses to the tune of quality control, for better coffee. 
 Join Stephen as he shares stories and photos from his adventures, chal
 lenges, and work in East Africa.\n\nFor more information visit https:/
 /www.baristaexchange.com/events/stephen-vick-coffee-and
DTSTART;TZID=America/Los_Angeles:20091113T190000
DTEND;TZID=America/Los_Angeles:20091113T210000
CATEGORIES:presentation
LOCATION:The Red E Cafe
WEBSITE:http://www.theredecafe.com
URL:http://www.theredecafe.com
CONTACT:
ORGANIZER:Red E Cafe
ATTACH;FMTTYPE="image/jpeg":http://storage.ning.com/topology/rest/1.0/
 file/get/91913487?profile=original
ATTENDEE;ROLE=REQ-PARTICIPANT;PARTSTAT=ACCEPTED;RSVP=TRUE;CN="Parker H
 ill":https://www.baristaexchange.com/profile/ParkerHill
END:VEVENT
END:VCALENDAR
