BEGIN:VCALENDAR
PRODID:NingEventWidget-v1
VERSION:2.0
METHOD:PUBLISH
BEGIN:VTIMEZONE
TZID:America/Los_Angeles
X-LIC-LOCATION:America/Los_Angeles
BEGIN:DAYLIGHT
TZOFFSETFROM:-0800
TZOFFSETTO:-0700
TZNAME:PDT
DTSTART:19700308T020000
RRULE:FREQ=YEARLY;BYMONTH=3;BYDAY=2SU
END:DAYLIGHT
BEGIN:STANDARD
TZOFFSETFROM:-0700
TZOFFSETTO:-0800
TZNAME:PST
DTSTART:19701101T020000
RRULE:FREQ=YEARLY;BYMONTH=11;BYDAY=1SU
END:STANDARD
END:VTIMEZONE
BEGIN:VEVENT
UID:1688216:Event:677999
DTSTAMP:20260422T005805Z
SUMMARY:Southeast Regional Jam Barista Bash and Latte Art Throwdown!
DESCRIPTION:Join us for a night celebrating the Southeast's vibrant ba
 rista and coffee community! Of course there will be a ridiculous latte
  art throwdown, featuring some of the hottest latte artists around, in
 cluding Millrock Latte Art champ Ben Helfen. This year, besides the fa
 mous super rockstar custom tamper from Espresso Parts, we are giving c
 ool home coffee brewing packages to the top two baristas, as well as m
 any other cool prizes from Bellissimo and Barista Magazine! This year 
 will also host the first ever Southeast Regional City vs City Throwdow
 n. Special Guest MC and Latte Art Extraordinaire Chris \"Defurious\" D
 eferio will be showing off what has made him a multiple and current Mi
 llrock Latte Art champion!\n\nPrizes are as follows:\nFirst Place- A h
 ome brewing package featuring a Baratza Virtuoso grinder, Chemex, and 
 Digital Scale. Also, a custom first place tamper from Espresso Parts.\
 nSecond Place- A Yama Siphon Brewer, a Digital Scale, and a custom sec
 ond place tamper from Espresso Parts.\nThird Place-Various package fro
 m Bellissimo, a year's subscription to Barista Magazine, coffee, and o
 ther goodies, as well as a custom third place tamper from Espresso Par
 ts.\n(Plus, all participants receive a goody bag with Spouted Bell pit
 cher, CoffeeTool, and other swag!)\n\nLet's not forget about the Bash!
  Open bar, grub, and the unstoppable and unbeatable DJ skills of forme
 r SE Regional Champ and amazing barista Lem Butler. We will be providi
 ng shuttles from and to the event for all needed.\n\nThis event is par
 t of the BGA Southeast Regional Jam, and is sponsored by Dilworth Coff
 ee, Carolina Espresso Services, Barista Magazine, Bellissimo Coffee In
 foGroup, Coffeegeek.com, Torani, and Big Train.\n(There is a $5 donati
 on to enter the throwdown, which is going to charity.)\n\n\nFor more i
 nformation visit https://www.baristaexchange.com/events/southeast-regi
 onal-jam-barista
DTSTART;TZID=America/Los_Angeles:20091114T190000
DTEND;TZID=America/Los_Angeles:20091114T230000
CATEGORIES:latte, art, throwdown, and, barista, bash
LOCATION:Dilworth Coffee Roastery
WEBSITE:http://maps.google.com/maps?f=q&source=s_q&hl=en&geocode=&q=24
 00+Distribution+St.+Charlotte,+NC&sll=37.0625,-95.677068&sspn=36.77891
 1,79.013672&ie=UTF8&hq=&hnear=2400+Distribution+St,+Charlotte,+Mecklen
 burg,+North+Carolina+28203&ll=35.20753,-80.867293&spn=0.009275,0.01929
 &z=16&iwloc=A
URL:http://maps.google.com/maps?f=q&source=s_q&hl=en&geocode=&q=2400+D
 istribution+St.+Charlotte,+NC&sll=37.0625,-95.677068&sspn=36.778911,79
 .013672&ie=UTF8&hq=&hnear=2400+Distribution+St,+Charlotte,+Mecklenburg
 ,+North+Carolina+28203&ll=35.20753,-80.867293&spn=0.009275,0.01929&z=1
 6&iwloc=A
CONTACT:(704)340-3005
ORGANIZER:Jason Dominy, and Brady Butler
ATTACH;FMTTYPE="image/jpeg":http://storage.ning.com/topology/rest/1.0/
 file/get/91913366?profile=original
ATTENDEE;ROLE=REQ-PARTICIPANT;PARTSTAT=ACCEPTED;RSVP=TRUE;CN="Brent ha
 ll":https://www.baristaexchange.com/profile/Brenthall
ATTENDEE;ROLE=REQ-PARTICIPANT;PARTSTAT=ACCEPTED;RSVP=TRUE;CN="Paul Yat
 es":https://www.baristaexchange.com/profile/PaulYates
ATTENDEE;ROLE=REQ-PARTICIPANT;PARTSTAT=ACCEPTED;RSVP=TRUE;CN="Katie Cl
 ine":https://www.baristaexchange.com/profile/KatieCline
ATTENDEE;ROLE=REQ-PARTICIPANT;PARTSTAT=ACCEPTED;RSVP=TRUE;CN="Alex Med
 ina":https://www.baristaexchange.com/profile/AlexMedina
ATTENDEE;ROLE=REQ-PARTICIPANT;PARTSTAT=ACCEPTED;RSVP=TRUE;CN="Jacob Ow
 ens":https://www.baristaexchange.com/profile/JacobOwens
ATTENDEE;ROLE=REQ-PARTICIPANT;PARTSTAT=ACCEPTED;RSVP=TRUE;CN="Daniel T
 hompson":https://www.baristaexchange.com/profile/DanielThompson
ATTENDEE;ROLE=REQ-PARTICIPANT;PARTSTAT=ACCEPTED;RSVP=TRUE;CN="George H
  Holt":https://www.baristaexchange.com/profile/GeorgeHHolt
ATTENDEE;ROLE=REQ-PARTICIPANT;PARTSTAT=ACCEPTED;RSVP=TRUE;CN="Jason Do
 miny":https://www.baristaexchange.com/profile/jdominy
ATTENDEE;ROLE=REQ-PARTICIPANT;PARTSTAT=TENTATIVE;RSVP=TRUE;CN="Andy Ci
 ordia":https://www.baristaexchange.com/profile/AndyCiordia
ATTENDEE;ROLE=REQ-PARTICIPANT;PARTSTAT=TENTATIVE;RSVP=TRUE;CN=Eden-Mar
 ie:https://www.baristaexchange.com/profile/EdenMarieAbramowicz
ATTENDEE;ROLE=REQ-PARTICIPANT;PARTSTAT=TENTATIVE;RSVP=TRUE;CN=bz:https
 ://www.baristaexchange.com/profile/bz
ATTENDEE;ROLE=REQ-PARTICIPANT;PARTSTAT=TENTATIVE;RSVP=TRUE;CN="christo
 s manousidis":https://www.baristaexchange.com/profile/christos_moosis_
 manousidis
ATTENDEE;ROLE=REQ-PARTICIPANT;PARTSTAT=TENTATIVE;RSVP=TRUE;CN="Alun Ev
 ans":https://www.baristaexchange.com/profile/AlunEvans
ATTENDEE;ROLE=REQ-PARTICIPANT;PARTSTAT=TENTATIVE;RSVP=TRUE;CN=Jim:http
 s://www.baristaexchange.com/profile/Jim
END:VEVENT
END:VCALENDAR
