BEGIN:VCALENDAR
PRODID:NingEventWidget-v1
VERSION:2.0
METHOD:PUBLISH
BEGIN:VTIMEZONE
TZID:America/Los_Angeles
X-LIC-LOCATION:America/Los_Angeles
BEGIN:DAYLIGHT
TZOFFSETFROM:-0800
TZOFFSETTO:-0700
TZNAME:PDT
DTSTART:19700308T020000
RRULE:FREQ=YEARLY;BYMONTH=3;BYDAY=2SU
END:DAYLIGHT
BEGIN:STANDARD
TZOFFSETFROM:-0700
TZOFFSETTO:-0800
TZNAME:PST
DTSTART:19701101T020000
RRULE:FREQ=YEARLY;BYMONTH=11;BYDAY=1SU
END:STANDARD
END:VTIMEZONE
BEGIN:VEVENT
UID:1688216:Event:983520
DTSTAMP:20260421T031720Z
SUMMARY:South West Regional Barista Competition
DESCRIPTION:Quick Links:Register to Compete: coming soon!NC Website pa
 ge: http://usbaristachampionship.org/?p=southwestSponsorship info: htt
 p://usbaristachampionship.org/?p=southwestThe National USBC Competitio
 n will take place in conjunction with the 23rd annual SCAA Exposition 
 and Symposium in Houston, TX April 27th – May 1st 2011. There are th
 ree rounds of judging at the national event: the preliminary round, th
 e semi-finals, and the finals. Competitors who advance to the finals w
 ill compete against six of the most highly skilled baristas in the cou
 ntry for the title of 2011 United States Barista Champion. The winner 
 will represent the United States at the World Barista Championship, wh
 ich will be held in Bogota, Colombia June 2-5, 2011.\n\nFor more infor
 mation visit https://www.baristaexchange.com/events/south-west-regiona
 l-barista
DTSTART;TZID=America/Los_Angeles:20110304T000000
DTEND;TZID=America/Los_Angeles:20110306T235900
CATEGORIES:barista, competition
LOCATION:Siren Studios
WEBSITE:http://usbaristachampionship.org/?p=southwest
URL:http://usbaristachampionship.org/?p=southwest
CONTACT:
ORGANIZER:SCAA
ATTACH;FMTTYPE="image/jpeg":http://storage.ning.com/topology/rest/1.0/
 file/get/91920677?profile=original
ATTENDEE;ROLE=REQ-PARTICIPANT;PARTSTAT=ACCEPTED;RSVP=TRUE;CN="Mike Str
 umpf":https://www.baristaexchange.com/profile/MikeStrumpf
ATTENDEE;ROLE=REQ-PARTICIPANT;PARTSTAT=ACCEPTED;RSVP=TRUE;CN="Tara She
 nson":https://www.baristaexchange.com/profile/TaraShenson
END:VEVENT
END:VCALENDAR
