BEGIN:VCALENDAR
PRODID:NingEventWidget-v1
VERSION:2.0
METHOD:PUBLISH
BEGIN:VTIMEZONE
TZID:America/Los_Angeles
X-LIC-LOCATION:America/Los_Angeles
BEGIN:DAYLIGHT
TZOFFSETFROM:-0800
TZOFFSETTO:-0700
TZNAME:PDT
DTSTART:19700308T020000
RRULE:FREQ=YEARLY;BYMONTH=3;BYDAY=2SU
END:DAYLIGHT
BEGIN:STANDARD
TZOFFSETFROM:-0700
TZOFFSETTO:-0800
TZNAME:PST
DTSTART:19701101T020000
RRULE:FREQ=YEARLY;BYMONTH=11;BYDAY=1SU
END:STANDARD
END:VTIMEZONE
BEGIN:VEVENT
UID:1688216:Event:995975
DTSTAMP:20260421T114147Z
SUMMARY:South East Regional Barista Competition
DESCRIPTION:The SERBC will take place on February 11-13, 2011 and will
  be hosted by Batdorf & Bronson (http://www.dancinggoats.com/) and Eve
 rything Coffee & Tea (http://www.everythingcoffee-tea.com/) Quick Link
 s:NW Website page: http://usbaristachampionship.org/?p=southeastRegist
 ration link: coming soon! visit the webpage above for more details.The
  top six competitors will guarantee themselves a spot in the United St
 ates Barista Championship (USBC). The USBC will take place in conjunct
 ion with the 23rd annual SCAA Exposition and Symposium in Houston, TX 
 April 27th – May 1st 2011. There are three rounds of judging at the 
 national event: the preliminary round, the semi-finals, and the finals
 . Competitors who advance to the finals will compete against six of th
 e most highly skilled baristas in the country for the title of 2011 Un
 ited States Barista Champion. The winner will represent the United Sta
 tes at the World Barista Championship, which will be held in Bogota, C
 olombia June 2-5, 2011.\n\nFor more information visit https://www.bari
 staexchange.com/events/south-east-regional-barista
DTSTART;TZID=America/Los_Angeles:20110211T000000
DTEND;TZID=America/Los_Angeles:20110213T235900
CATEGORIES:barista, competition
LOCATION:Georgia World Congress Center
WEBSITE:http://www.facebook.com/l.php?u=http%3A%2F%2Fusbaristachampion
 ship.org%2F%3Fp%3Dsoutheast&h=fce19
URL:http://www.facebook.com/l.php?u=http%3A%2F%2Fusbaristachampionship
 .org%2F%3Fp%3Dsoutheast&h=fce19
CONTACT:5626244100
ORGANIZER:SCAA
ATTACH;FMTTYPE="image/jpeg":http://storage.ning.com/topology/rest/1.0/
 file/get/91920773?profile=original
ATTENDEE;ROLE=REQ-PARTICIPANT;PARTSTAT=ACCEPTED;RSVP=TRUE;CN="Keelan L
 yons":https://www.baristaexchange.com/profile/KeelanLyons
ATTENDEE;ROLE=REQ-PARTICIPANT;PARTSTAT=ACCEPTED;RSVP=TRUE;CN="Tara She
 nson":https://www.baristaexchange.com/profile/TaraShenson
END:VEVENT
END:VCALENDAR
