BEGIN:VCALENDAR
PRODID:NingEventWidget-v1
VERSION:2.0
METHOD:PUBLISH
BEGIN:VTIMEZONE
TZID:America/Los_Angeles
X-LIC-LOCATION:America/Los_Angeles
BEGIN:DAYLIGHT
TZOFFSETFROM:-0800
TZOFFSETTO:-0700
TZNAME:PDT
DTSTART:19700308T020000
RRULE:FREQ=YEARLY;BYMONTH=3;BYDAY=2SU
END:DAYLIGHT
BEGIN:STANDARD
TZOFFSETFROM:-0700
TZOFFSETTO:-0800
TZNAME:PST
DTSTART:19701101T020000
RRULE:FREQ=YEARLY;BYMONTH=11;BYDAY=1SU
END:STANDARD
END:VTIMEZONE
BEGIN:VEVENT
UID:1688216:Event:497288
DTSTAMP:20260421T144020Z
SUMMARY:Sound Travels
DESCRIPTION:This week kicks off Sound Travels Live with Marcus Doucett
 e and 88nine Radio Milwaukee . Stop down to Bay View on Wednesday even
 ing from 6p-8p to listen to tunes from Brazil. We will also be offerin
 g free coffee samples of our Brazilian coffee - it's going to be a gre
 at evening!\n\nYou can also tune in to 88.9 FM Mondays, Wednesdays and
  Fridays from 12 noon to 1pm to listen to Sound Travels and music from
  the coffee lands!\n\nFor more information visit https://www.baristaex
 change.com/events/sound-travels
DTSTART;TZID=America/Los_Angeles:20090603T180000
DTEND;TZID=America/Los_Angeles:20090603T200000
CATEGORIES:free, coffee, samples
LOCATION:Our Bay View Location
WEBSITE:
URL:
CONTACT:
ORGANIZER;CN="Stone Creek Coffee Roasters":https://www.baristaexchange
 .com/profile/StoneCreekCoffeeRoasters
ATTACH;FMTTYPE="image/jpeg":http://storage.ning.com/topology/rest/1.0/
 file/get/91907552?profile=original
ATTENDEE;ROLE=REQ-PARTICIPANT;PARTSTAT=ACCEPTED;RSVP=TRUE;CN="Stone Cr
 eek Coffee Roasters":https://www.baristaexchange.com/profile/StoneCree
 kCoffeeRoasters
END:VEVENT
END:VCALENDAR
