BEGIN:VCALENDAR
PRODID:NingEventWidget-v1
VERSION:2.0
METHOD:PUBLISH
BEGIN:VTIMEZONE
TZID:America/Los_Angeles
X-LIC-LOCATION:America/Los_Angeles
BEGIN:DAYLIGHT
TZOFFSETFROM:-0800
TZOFFSETTO:-0700
TZNAME:PDT
DTSTART:19700308T020000
RRULE:FREQ=YEARLY;BYMONTH=3;BYDAY=2SU
END:DAYLIGHT
BEGIN:STANDARD
TZOFFSETFROM:-0700
TZOFFSETTO:-0800
TZNAME:PST
DTSTART:19701101T020000
RRULE:FREQ=YEARLY;BYMONTH=11;BYDAY=1SU
END:STANDARD
END:VTIMEZONE
BEGIN:VEVENT
UID:1688216:Event:625274
DTSTAMP:20260424T064539Z
SUMMARY:Seattle vs L.A. Latte Art Smackdown
DESCRIPTION:Saturday September 26th, 7pm-10pm at Victrola Coffee Roast
 ers - 310 E Pike St, Seattle WA\n\nHosted by Victrola Coffee Roasters,
  Zoka Coffee and Tea and Barista Exchange\n\nFor more information visi
 t https://www.baristaexchange.com/events/seattle-vs-la-latte-art
DTSTART;TZID=America/Los_Angeles:20090926T190000
DTEND;TZID=America/Los_Angeles:20090926T220000
CATEGORIES:latte, art, smackdown, and, party
LOCATION:Victrola Coffee Roasters
WEBSITE:
URL:
CONTACT:
ORGANIZER:Zoka Coffee & Tea, Victrola Coffee Roasters and Barista Exch
 ange
ATTACH;FMTTYPE="image/jpeg":http://storage.ning.com/topology/rest/1.0/
 file/get/91910737?profile=original
ATTENDEE;ROLE=REQ-PARTICIPANT;PARTSTAT=ACCEPTED;RSVP=TRUE;CN="Pat Thom
 as":https://www.baristaexchange.com/profile/PatThomas
ATTENDEE;ROLE=REQ-PARTICIPANT;PARTSTAT=ACCEPTED;RSVP=TRUE;CN=Jonathan:
 https://www.baristaexchange.com/profile/Jonathan99
ATTENDEE;ROLE=REQ-PARTICIPANT;PARTSTAT=ACCEPTED;RSVP=TRUE;CN="Ryan Pal
 mer":https://www.baristaexchange.com/profile/RyanPalmer
ATTENDEE;ROLE=REQ-PARTICIPANT;PARTSTAT=ACCEPTED;RSVP=TRUE;CN="Darren R
 eynolds":https://www.baristaexchange.com/profile/DarrenReynolds
ATTENDEE;ROLE=REQ-PARTICIPANT;PARTSTAT=ACCEPTED;RSVP=TRUE;CN="Myra Jad
 e Castillo":https://www.baristaexchange.com/profile/MyraJadeCastillo
ATTENDEE;ROLE=REQ-PARTICIPANT;PARTSTAT=ACCEPTED;RSVP=TRUE;CN="Denise H
 eckes":https://www.baristaexchange.com/profile/DeniseHeckes
ATTENDEE;ROLE=REQ-PARTICIPANT;PARTSTAT=ACCEPTED;RSVP=TRUE;CN="J.P. Oug
 htred":https://www.baristaexchange.com/profile/JPOughtred
ATTENDEE;ROLE=REQ-PARTICIPANT;PARTSTAT=ACCEPTED;RSVP=TRUE;CN=Britt:htt
 ps://www.baristaexchange.com/profile/Britt
ATTENDEE;ROLE=REQ-PARTICIPANT;PARTSTAT=ACCEPTED;RSVP=TRUE;CN="Jarred H
 offpauir":https://www.baristaexchange.com/profile/JarredHoffpauir
ATTENDEE;ROLE=REQ-PARTICIPANT;PARTSTAT=ACCEPTED;RSVP=TRUE;CN="Mark Tru
 jillo":https://www.baristaexchange.com/profile/MarkTrujillo
ATTENDEE;ROLE=REQ-PARTICIPANT;PARTSTAT=ACCEPTED;RSVP=TRUE;CN="stefany 
 Dybeck":https://www.baristaexchange.com/profile/stefanyDybeck
ATTENDEE;ROLE=REQ-PARTICIPANT;PARTSTAT=ACCEPTED;RSVP=TRUE;CN="Masa Oni
 shi":https://www.baristaexchange.com/profile/MasahiroOnishi
ATTENDEE;ROLE=REQ-PARTICIPANT;PARTSTAT=ACCEPTED;RSVP=TRUE;CN="Yuki Mim
 ura":https://www.baristaexchange.com/profile/YukiMimura
ATTENDEE;ROLE=REQ-PARTICIPANT;PARTSTAT=ACCEPTED;RSVP=TRUE;CN="Danielle
  Meyers":https://www.baristaexchange.com/profile/DanielleMeyers
ATTENDEE;ROLE=REQ-PARTICIPANT;PARTSTAT=ACCEPTED;RSVP=TRUE;CN=Charbello
 :https://www.baristaexchange.com/profile/Charbello
ATTENDEE;ROLE=REQ-PARTICIPANT;PARTSTAT=ACCEPTED;RSVP=TRUE;CN="Andrew R
 . Tucker":https://www.baristaexchange.com/profile/AndrewRTucker
ATTENDEE;ROLE=REQ-PARTICIPANT;PARTSTAT=ACCEPTED;RSVP=TRUE;CN="Java Gem
  Coffee Drive Thru":https://www.baristaexchange.com/profile/CyberInfus
 ionInternetCafe
ATTENDEE;ROLE=REQ-PARTICIPANT;PARTSTAT=ACCEPTED;RSVP=TRUE;CN="Steve Ke
 ssler":https://www.baristaexchange.com/profile/SteveKessler
ATTENDEE;ROLE=REQ-PARTICIPANT;PARTSTAT=ACCEPTED;RSVP=TRUE;CN="Sarah Sa
 nfino":https://www.baristaexchange.com/profile/SarahSanfino
ATTENDEE;ROLE=REQ-PARTICIPANT;PARTSTAT=ACCEPTED;RSVP=TRUE;CN="Matt Mil
 letto":https://www.baristaexchange.com/profile/mattmilletto
ATTENDEE;ROLE=REQ-PARTICIPANT;PARTSTAT=TENTATIVE;RSVP=TRUE;CN="Cody Ki
 rkland":https://www.baristaexchange.com/profile/CodyKirkland
ATTENDEE;ROLE=REQ-PARTICIPANT;PARTSTAT=TENTATIVE;RSVP=TRUE;CN="Jenny D
 eKorte":https://www.baristaexchange.com/profile/JennyDeKorte
ATTENDEE;ROLE=REQ-PARTICIPANT;PARTSTAT=TENTATIVE;RSVP=TRUE;CN="Dan Hel
 land":https://www.baristaexchange.com/profile/DanHelland
ATTENDEE;ROLE=REQ-PARTICIPANT;PARTSTAT=TENTATIVE;RSVP=TRUE;CN="Carole 
 Alexander":https://www.baristaexchange.com/profile/CaroleAlexander
ATTENDEE;ROLE=REQ-PARTICIPANT;PARTSTAT=TENTATIVE;RSVP=TRUE;CN="Brian C
 onroy":https://www.baristaexchange.com/profile/BrianConroy
ATTENDEE;ROLE=REQ-PARTICIPANT;PARTSTAT=TENTATIVE;RSVP=TRUE;CN="Laura A
 mmerman":https://www.baristaexchange.com/profile/LauraAmmerman
END:VEVENT
END:VCALENDAR
