BEGIN:VCALENDAR
PRODID:NingEventWidget-v1
VERSION:2.0
METHOD:PUBLISH
BEGIN:VTIMEZONE
TZID:America/Los_Angeles
X-LIC-LOCATION:America/Los_Angeles
BEGIN:DAYLIGHT
TZOFFSETFROM:-0800
TZOFFSETTO:-0700
TZNAME:PDT
DTSTART:19700308T020000
RRULE:FREQ=YEARLY;BYMONTH=3;BYDAY=2SU
END:DAYLIGHT
BEGIN:STANDARD
TZOFFSETFROM:-0700
TZOFFSETTO:-0800
TZNAME:PST
DTSTART:19701101T020000
RRULE:FREQ=YEARLY;BYMONTH=11;BYDAY=1SU
END:STANDARD
END:VTIMEZONE
BEGIN:VEVENT
UID:1688216:Event:600064
DTSTAMP:20260422T213104Z
SUMMARY:Seattle vs LA Barista Smackdown - Qualifying Round
DESCRIPTION:This Saturday the 29th all Seattle baristas are invited to
  Victrola Coffee Roasters to compete for spots in the Seattle vs LA La
 tte Art Smackdown happening in September.\n\nThis event is a qualifyin
 g round so we've tried to accommodate as many pours as possible so eve
 ryone has a chance. The top 10 scoring baristas will move on to finals
 .\n\nSignups will be taken at the event so make sure you get there pro
 mptly at 7pm to reserve a spot.\n\n$10 gets you in & top barista takes
  the pot!\n\nSee you there!\n\nFor more information visit https://www.
 baristaexchange.com/events/seattle-vs-la-barista
DTSTART;TZID=America/Los_Angeles:20090823T190000
DTEND;TZID=America/Los_Angeles:20090823T220000
CATEGORIES:barista, competition
LOCATION:Victrola Coffee Roasters
WEBSITE:http://www.victrolacoffee.com
URL:http://www.victrolacoffee.com
CONTACT:
ORGANIZER;CN="Mark Pfaff":https://www.baristaexchange.com/profile/Mark
 Pfaff
ATTACH;FMTTYPE="image/jpeg":http://storage.ning.com/topology/rest/1.0/
 file/get/91910060?profile=original
ATTENDEE;ROLE=REQ-PARTICIPANT;PARTSTAT=ACCEPTED;RSVP=TRUE;CN="Mark Pfa
 ff":https://www.baristaexchange.com/profile/MarkPfaff
END:VEVENT
END:VCALENDAR
