BEGIN:VCALENDAR
PRODID:NingEventWidget-v1
VERSION:2.0
METHOD:PUBLISH
BEGIN:VTIMEZONE
TZID:America/Los_Angeles
X-LIC-LOCATION:America/Los_Angeles
BEGIN:DAYLIGHT
TZOFFSETFROM:-0800
TZOFFSETTO:-0700
TZNAME:PDT
DTSTART:19700308T020000
RRULE:FREQ=YEARLY;BYMONTH=3;BYDAY=2SU
END:DAYLIGHT
BEGIN:STANDARD
TZOFFSETFROM:-0700
TZOFFSETTO:-0800
TZNAME:PST
DTSTART:19701101T020000
RRULE:FREQ=YEARLY;BYMONTH=11;BYDAY=1SU
END:STANDARD
END:VTIMEZONE
BEGIN:VEVENT
UID:1688216:Event:514027
DTSTAMP:20260422T005631Z
SUMMARY:Seattle Coffee Gear Giotto Espresso Machine Auction
DESCRIPTION:Seattle Coffee Gear, a Coffee Kids supporter, will hold an
  auction for five Limited Edition Giro D’Italia Giotto semi-automati
 c espresso machines. One machine will be auctioned off per week with a
 ll proceeds benefiting Coffee Kids.\n\nThe machines, created by Milan-
 based Rocket Espresso, celebrate the Giro d’Italia, a 1,521 mile bik
 e race through the Italian countryside. The Giro d’Italia along with
  the Tour de France and World Cycling Championship make up the Triple 
 Crown of cycling.\n\nRocket Espresso has created just 100 of these mac
 hines based on their popular Giotto Premium+ machine. All feature a Ma
 glia Rosa-inspired pink manometer, individually numbered badges and th
 e names of all 92 winners of the Giro D’Italia machine-engraved on t
 he side.\n\nSeattle Coffee Gear has imported five of these limited edi
 tion machines for the auction.\n\nFor more information visit https://w
 ww.baristaexchange.com/events/seattle-coffee-gear-giotto
DTSTART;TZID=America/Los_Angeles:20090619T080000
DTEND;TZID=America/Los_Angeles:20090724T200000
CATEGORIES:auction
LOCATION:Online
WEBSITE:http://www.seattlecoffeegear.com/Articles.asp?ID=229
URL:http://www.seattlecoffeegear.com/Articles.asp?ID=229
CONTACT:
ORGANIZER:Seattle Coffee Gear
ATTACH;FMTTYPE="image/jpeg":
ATTENDEE;ROLE=REQ-PARTICIPANT;PARTSTAT=ACCEPTED;RSVP=TRUE;CN="cafe aro
 me de l'art":https://www.baristaexchange.com/profile/cafearomedelart
ATTENDEE;ROLE=REQ-PARTICIPANT;PARTSTAT=ACCEPTED;RSVP=TRUE;CN="Coffee K
 ids":https://www.baristaexchange.com/profile/CoffeeKids
END:VEVENT
END:VCALENDAR
