BEGIN:VCALENDAR
PRODID:NingEventWidget-v1
VERSION:2.0
METHOD:PUBLISH
BEGIN:VTIMEZONE
TZID:America/Los_Angeles
X-LIC-LOCATION:America/Los_Angeles
BEGIN:DAYLIGHT
TZOFFSETFROM:-0800
TZOFFSETTO:-0700
TZNAME:PDT
DTSTART:19700308T020000
RRULE:FREQ=YEARLY;BYMONTH=3;BYDAY=2SU
END:DAYLIGHT
BEGIN:STANDARD
TZOFFSETFROM:-0700
TZOFFSETTO:-0800
TZNAME:PST
DTSTART:19701101T020000
RRULE:FREQ=YEARLY;BYMONTH=11;BYDAY=1SU
END:STANDARD
END:VTIMEZONE
BEGIN:VEVENT
UID:1688216:Event:672912
DTSTAMP:20260421T163813Z
SUMMARY:Scrantons Vintage Theater and Cafe Mug Party
DESCRIPTION:Scranton Rhythm and The Vintage Theater are in the final w
 orks of the long awaited Cafe! We are planning on opening for the firs
 t weekend of November.\n\nAs you may or may not know, Andrea, Conor, a
 nd Theresa, have been working very hard gathering items and constructi
 ng things here and there to make a beautiful space! We still need your
  help! Sunday, November 1st we will be showing a movie for all. During
  this showing we're asking you to bring us your extra coffee mugs and 
 cups! Were hoping to gather a collection of neat mugs from our communi
 ty!\n\nFREE Grateful Roast Coffee the day of the party to anyone who b
 rings us a mug. The cooler, or more unique the better! We will be havi
 ng a contest for coolest mug, and the winner gets FREE coffee for a MO
 NTH!!\n\nThanks again to all who have helped us along the way!\n\nLove
 , T\n\nFor more information visit https://www.baristaexchange.com/even
 ts/scrantons-vintage-theater-and
DTSTART;TZID=America/Los_Angeles:20091101T180000
DTEND;TZID=America/Los_Angeles:20091101T210000
CATEGORIES:coffee, tasting, and, movie, screening
LOCATION:The Vintage Theater and Cafe
WEBSITE:http://www.scrantonsvintagetheater.com
URL:http://www.scrantonsvintagetheater.com
CONTACT:570 344 6344
ORGANIZER:The Vintage Theater and Cafe
ATTACH;FMTTYPE="image/jpeg":http://storage.ning.com/topology/rest/1.0/
 file/get/91912972?profile=original
ATTENDEE;ROLE=REQ-PARTICIPANT;PARTSTAT=ACCEPTED;RSVP=TRUE;CN="Brian Wi
 lliams":https://www.baristaexchange.com/profile/BrianWilliams
END:VEVENT
END:VCALENDAR
