BEGIN:VCALENDAR
PRODID:NingEventWidget-v1
VERSION:2.0
METHOD:PUBLISH
BEGIN:VTIMEZONE
TZID:America/Los_Angeles
X-LIC-LOCATION:America/Los_Angeles
BEGIN:DAYLIGHT
TZOFFSETFROM:-0800
TZOFFSETTO:-0700
TZNAME:PDT
DTSTART:19700308T020000
RRULE:FREQ=YEARLY;BYMONTH=3;BYDAY=2SU
END:DAYLIGHT
BEGIN:STANDARD
TZOFFSETFROM:-0700
TZOFFSETTO:-0800
TZNAME:PST
DTSTART:19701101T020000
RRULE:FREQ=YEARLY;BYMONTH=11;BYDAY=1SU
END:STANDARD
END:VTIMEZONE
BEGIN:VEVENT
UID:1688216:Event:528239
DTSTAMP:20260422T014458Z
SUMMARY:Scae world championship - coffeena Germany
DESCRIPTION:We just got the competition schedule for the World Champio
 nships in Cologne / Germany\n\nFriday, 26th of june\n10.00 a.m. (Germa
 ny) - SCAE WORLD ART CHAMPIONSHIP\n\nSaturday, 27th of june\n10.00 a.m
 . (Germany) - SCAE WORLD COFFEE IN GOOD SPIRITS CHAMPIONSHIPS\n\n12.00
  a.m. (Germany) - SCAE WORLD CEZVE IBRIK CHAMPIONSHIP\n\nSunday, 28th 
 of june\n10.00 a.m. (Germany) - SCAE WORLD CUP TASTER CHAMPIONSHIP\n\n
 Spain has for the first time a representative in the CUP TASTER CHAMPI
 ONSHIP - her name is Marisa Baque Delas - we wish her from Spain all t
 he best - as well as to all the other competitors.\n\nGood luck to eve
 rybody.\nBirgit\n\nwww.iecafe.com\n\nFor more information visit https:
 //www.baristaexchange.com/events/scae-world-championship
DTSTART;TZID=America/Los_Angeles:20090625T000000
DTEND;TZID=America/Los_Angeles:20090628T235900
CATEGORIES:scae, championship
LOCATION:Germany - Cologne at coffeena fari
WEBSITE:
URL:
CONTACT:
ORGANIZER:SCAE
ATTACH;FMTTYPE="image/jpeg":
ATTENDEE;ROLE=REQ-PARTICIPANT;PARTSTAT=ACCEPTED;RSVP=TRUE;CN=Birgit:ht
 tps://www.baristaexchange.com/profile/bs
END:VEVENT
END:VCALENDAR
