BEGIN:VCALENDAR
PRODID:NingEventWidget-v1
VERSION:2.0
METHOD:PUBLISH
BEGIN:VTIMEZONE
TZID:America/Los_Angeles
X-LIC-LOCATION:America/Los_Angeles
BEGIN:DAYLIGHT
TZOFFSETFROM:-0800
TZOFFSETTO:-0700
TZNAME:PDT
DTSTART:19700308T020000
RRULE:FREQ=YEARLY;BYMONTH=3;BYDAY=2SU
END:DAYLIGHT
BEGIN:STANDARD
TZOFFSETFROM:-0700
TZOFFSETTO:-0800
TZNAME:PST
DTSTART:19701101T020000
RRULE:FREQ=YEARLY;BYMONTH=11;BYDAY=1SU
END:STANDARD
END:VTIMEZONE
BEGIN:VEVENT
UID:1688216:Event:352005
DTSTAMP:20260422T124436Z
SUMMARY:SCAA SKILL-BUILDING WORKSHOP | Portland, OR
DESCRIPTION:Please join us for a three day skill-building workshop pre
 sented by the Specialty Coffee Association of America, which will be h
 eld in conjunction with the USBC in Portland, OR March 5-7.\n\nFor mor
 e information visit https://www.baristaexchange.com/events/scaa-skillb
 uilding-workshop
DTSTART;TZID=America/Los_Angeles:20090305T090000
DTEND;TZID=America/Los_Angeles:20090307T163000
CATEGORIES:workshop, training
LOCATION:Oregon Convention Center
WEBSITE:http://members.scaa.org/train/skb/Portland/default.aspx
URL:http://members.scaa.org/train/skb/Portland/default.aspx
CONTACT:562-624-4100
ORGANIZER:Melissa Bula | mbula@scaa.org
ATTACH;FMTTYPE="image/jpeg":http://storage.ning.com/topology/rest/1.0/
 file/get/91905622?profile=original
ATTENDEE;ROLE=REQ-PARTICIPANT;PARTSTAT=ACCEPTED;RSVP=TRUE;CN="Ellie Ma
 tuszak":https://www.baristaexchange.com/profile/EllieMatuszak
ATTENDEE;ROLE=REQ-PARTICIPANT;PARTSTAT=ACCEPTED;RSVP=TRUE;CN="Lily Kub
 ota":https://www.baristaexchange.com/profile/LilyKubota
END:VEVENT
END:VCALENDAR
