BEGIN:VCALENDAR
PRODID:NingEventWidget-v1
VERSION:2.0
METHOD:PUBLISH
BEGIN:VTIMEZONE
TZID:America/Los_Angeles
X-LIC-LOCATION:America/Los_Angeles
BEGIN:DAYLIGHT
TZOFFSETFROM:-0800
TZOFFSETTO:-0700
TZNAME:PDT
DTSTART:19700308T020000
RRULE:FREQ=YEARLY;BYMONTH=3;BYDAY=2SU
END:DAYLIGHT
BEGIN:STANDARD
TZOFFSETFROM:-0700
TZOFFSETTO:-0800
TZNAME:PST
DTSTART:19701101T020000
RRULE:FREQ=YEARLY;BYMONTH=11;BYDAY=1SU
END:STANDARD
END:VTIMEZONE
BEGIN:VEVENT
UID:1688216:Event:368831
DTSTAMP:20260421T232619Z
SUMMARY:SCAA Skill Building
DESCRIPTION:Good afternoon all...currently the SCAA is trying to recru
 it station instructors for the espresso labs, and general volunteers f
 or both the espresso labs and cupping labs.\n\nIf you have coffee skil
 ls and would like to help out at the upcoming event in Atlanta, please
  visit:\nhttp://scaaexposition.org/default.aspx to sign up and help ou
 t!\nThanks all- please have any interested volunteers sign up at scaae
 xposition.org or if they want/need more info please have them email me
  at ellie@coffeesolutions.net. Thanks!\n\nFor more information visit h
 ttps://www.baristaexchange.com/events/scaa-skill-building
DTSTART;TZID=America/Los_Angeles:20090416T000000
DTEND;TZID=America/Los_Angeles:20090419T235900
CATEGORIES:volunteer, opportunity
LOCATION:World Congress Center
WEBSITE:http://www.scaaexposition.org/education/Pages/Volunteers.aspx
URL:http://www.scaaexposition.org/education/Pages/Volunteers.aspx
CONTACT:
ORGANIZER:Ellie Hudson-Matuszak
ATTACH;FMTTYPE="image/jpeg":http://storage.ning.com/topology/rest/1.0/
 file/get/91905899?profile=original
ATTENDEE;ROLE=REQ-PARTICIPANT;PARTSTAT=ACCEPTED;RSVP=TRUE;CN="Stephen 
 Curtis":https://www.baristaexchange.com/profile/espressobomb
ATTENDEE;ROLE=REQ-PARTICIPANT;PARTSTAT=ACCEPTED;RSVP=TRUE;CN="Kim Coll
 ins":https://www.baristaexchange.com/profile/Kim47
ATTENDEE;ROLE=REQ-PARTICIPANT;PARTSTAT=ACCEPTED;RSVP=TRUE;CN="Shane Ki
 llingsworth":https://www.baristaexchange.com/profile/ShaneKillingswort
 h
ATTENDEE;ROLE=REQ-PARTICIPANT;PARTSTAT=ACCEPTED;RSVP=TRUE;CN="Milton R
 oot":https://www.baristaexchange.com/profile/MiltonRoot
ATTENDEE;ROLE=REQ-PARTICIPANT;PARTSTAT=ACCEPTED;RSVP=TRUE;CN="Heather 
 Ringwood":https://www.baristaexchange.com/profile/HeatherRingwood
ATTENDEE;ROLE=REQ-PARTICIPANT;PARTSTAT=ACCEPTED;RSVP=TRUE;CN=Erie:http
 s://www.baristaexchange.com/profile/Erie
ATTENDEE;ROLE=REQ-PARTICIPANT;PARTSTAT=ACCEPTED;RSVP=TRUE;CN="Matt Mil
 letto":https://www.baristaexchange.com/profile/mattmilletto
ATTENDEE;ROLE=REQ-PARTICIPANT;PARTSTAT=ACCEPTED;RSVP=TRUE;CN="Don Berq
 uist":https://www.baristaexchange.com/profile/DonBerquist
ATTENDEE;ROLE=REQ-PARTICIPANT;PARTSTAT=ACCEPTED;RSVP=TRUE;CN="Daniel A
 lbelice":https://www.baristaexchange.com/profile/DanielAlbelice
ATTENDEE;ROLE=REQ-PARTICIPANT;PARTSTAT=ACCEPTED;RSVP=TRUE;CN="Nic Born
 emann":https://www.baristaexchange.com/profile/NicBornemann
ATTENDEE;ROLE=REQ-PARTICIPANT;PARTSTAT=ACCEPTED;RSVP=TRUE;CN="Jason Do
 miny":https://www.baristaexchange.com/profile/jdominy
ATTENDEE;ROLE=REQ-PARTICIPANT;PARTSTAT=ACCEPTED;RSVP=TRUE;CN="Rob Tutt
 le":https://www.baristaexchange.com/profile/RobTuttle
ATTENDEE;ROLE=REQ-PARTICIPANT;PARTSTAT=TENTATIVE;RSVP=TRUE;CN=BaristaO
 nDutY:https://www.baristaexchange.com/profile/Baristaonduty
END:VEVENT
END:VCALENDAR
