BEGIN:VCALENDAR
PRODID:NingEventWidget-v1
VERSION:2.0
METHOD:PUBLISH
BEGIN:VTIMEZONE
TZID:America/Los_Angeles
X-LIC-LOCATION:America/Los_Angeles
BEGIN:DAYLIGHT
TZOFFSETFROM:-0800
TZOFFSETTO:-0700
TZNAME:PDT
DTSTART:19700308T020000
RRULE:FREQ=YEARLY;BYMONTH=3;BYDAY=2SU
END:DAYLIGHT
BEGIN:STANDARD
TZOFFSETFROM:-0700
TZOFFSETTO:-0800
TZNAME:PST
DTSTART:19701101T020000
RRULE:FREQ=YEARLY;BYMONTH=11;BYDAY=1SU
END:STANDARD
END:VTIMEZONE
BEGIN:VEVENT
UID:1688216:Event:876962
DTSTAMP:20260423T194613Z
SUMMARY:SCAA Cupping Judge / Q Grader course
DESCRIPTION:The Coopérative de Solidarité du Café Équitable (CoopS
 ol), in partnership with Cooperative Coffees and Coffee Lab Internatio
 nal, is proud to announce the certification of the Labo Equitable Mont
 real as Canada’s first SCAA accredited training laboratory for cuppi
 ng and quality control.\n\nLed by Mane Alves of Coffee Lab Internation
 al, we can now offer specialized courses to help new-comers to the wor
 ld of Specialty Coffee in demystifying the building blocks of quality;
  and for seasoned coffee traders and roasters looking to improve their
  skills and / or qualify, to join the ranks of SCAA Cupping Judges or 
 Q Graders, based upon industry-recognized standards.\n\nThe next cours
 e is scheduled to take place Aug 30 to Sept 3. For more information, v
 isit:\n\nhttp://coopcoffees.com/what/best_practices/projects/montreal-
 quality-lab/montreal-quality-lab\n\nFor more information visit https:/
 /www.baristaexchange.com/events/scaa-cupping-judge-q-grader
DTSTART;TZID=America/Los_Angeles:20100830T090000
DTEND;TZID=America/Los_Angeles:20100903T170000
CATEGORIES:professional, courses
LOCATION:Cooperative Coffees  \"Labo Equitable\"
WEBSITE:http://coopcoffees.com/what/best_practices/projects/montreal-q
 uality-lab
URL:http://coopcoffees.com/what/best_practices/projects/montreal-quali
 ty-lab
CONTACT:514-907-9853 ext 3
ORGANIZER:Monika Firl - CoopSol du Cafe Equitable
ATTACH;FMTTYPE="image/jpeg":
ATTENDEE;ROLE=REQ-PARTICIPANT;PARTSTAT=ACCEPTED;RSVP=TRUE;CN="Monika F
 irl":https://www.baristaexchange.com/profile/MonikaFirl
END:VEVENT
END:VCALENDAR
