BEGIN:VCALENDAR
PRODID:NingEventWidget-v1
VERSION:2.0
METHOD:PUBLISH
BEGIN:VTIMEZONE
TZID:America/Los_Angeles
X-LIC-LOCATION:America/Los_Angeles
BEGIN:DAYLIGHT
TZOFFSETFROM:-0800
TZOFFSETTO:-0700
TZNAME:PDT
DTSTART:19700308T020000
RRULE:FREQ=YEARLY;BYMONTH=3;BYDAY=2SU
END:DAYLIGHT
BEGIN:STANDARD
TZOFFSETFROM:-0700
TZOFFSETTO:-0800
TZNAME:PST
DTSTART:19701101T020000
RRULE:FREQ=YEARLY;BYMONTH=11;BYDAY=1SU
END:STANDARD
END:VTIMEZONE
BEGIN:VEVENT
UID:1688216:Event:419519
DTSTAMP:20260421T133443Z
SUMMARY:Saturday Night Smackdown
DESCRIPTION:It's time once again for the great barista jam and latte a
 rt throwdown known as the Saturday Night Smackdown once again!\n\nLast
  time, over 20 competitors from across the state of Texas competed for
  a huge cash prize. This time. . . will be pretty much the same. Okay,
  not quite as dramatic sounding as I was hoping, but it's gonna be awe
 some none the less.\n\nMeet at Caffe Medici on Guadalupe around 5 pm f
 or some informative information from knowledgeable coffee people, and 
 the sign up for the throwdown starts at 6 pm with the throwdown starti
 ng at 7 pm.\n\nFor more rules and information please visit: www.saturd
 aynightsmackdown.blogspot.com\n\n\n\nDid I mention beer??? We'll have 
 a little, but you're encouraged to bring your own to add to the festiv
 ities!\n\nFor more information visit https://www.baristaexchange.com/e
 vents/saturday-night-smackdown
DTSTART;TZID=America/Los_Angeles:20090425T170000
DTEND;TZID=America/Los_Angeles:20090425T210000
CATEGORIES:"barista+jam", "latte+art+throwdown"
LOCATION:Caffe Medici on Guadalupe
WEBSITE:http://www.saturdaynightsmackdown.blogspot.com
URL:http://www.saturdaynightsmackdown.blogspot.com
CONTACT:512 6099899
ORGANIZER;CN="Lorenzo Perkins":https://www.baristaexchange.com/profile
 /Lorenzo
ATTACH;FMTTYPE="image/jpeg":http://storage.ning.com/topology/rest/1.0/
 file/get/91906367?profile=original
ATTENDEE;ROLE=REQ-PARTICIPANT;PARTSTAT=ACCEPTED;RSVP=TRUE;CN=Ryan:http
 s://www.baristaexchange.com/profile/Ryan98
ATTENDEE;ROLE=REQ-PARTICIPANT;PARTSTAT=ACCEPTED;RSVP=TRUE;CN="Greenway
  Barista":https://www.baristaexchange.com/profile/BuehrerakaDonutDave
ATTENDEE;ROLE=REQ-PARTICIPANT;PARTSTAT=ACCEPTED;RSVP=TRUE;CN="Sean Mar
 shall":https://www.baristaexchange.com/profile/SeanMarshall
ATTENDEE;ROLE=REQ-PARTICIPANT;PARTSTAT=ACCEPTED;RSVP=TRUE;CN="Lorenzo 
 Perkins":https://www.baristaexchange.com/profile/Lorenzo
END:VEVENT
END:VCALENDAR
